BEGIN:VCALENDAR
CALSCALE:GREGORIAN
PRODID:-//Apple Inc.//macOS 26.2//EN
VERSION:2.0
BEGIN:VTIMEZONE
TZID:Europe/Madrid
BEGIN:DAYLIGHT
DTSTART:19810329T020000
RRULE:FREQ=YEARLY;BYMONTH=3;BYDAY=-1SU
TZNAME:CEST
TZOFFSETFROM:+0100
TZOFFSETTO:+0200
END:DAYLIGHT
BEGIN:STANDARD
DTSTART:19961027T030000
RRULE:FREQ=YEARLY;BYMONTH=10;BYDAY=-1SU
TZNAME:CET
TZOFFSETFROM:+0200
TZOFFSETTO:+0100
END:STANDARD
END:VTIMEZONE
BEGIN:VEVENT
DESCRIPTION:Enlace de conexión: https://us02web.zoom.us/j/82980993032?pw
 d=Utxq9FaFHca4Wy4alptpZ8gmjdBy1z.1
DTEND;TZID=Europe/Madrid:20260428T084500
DTSTAMP:20260417T114726Z
DTSTART;TZID=Europe/Madrid:20260428T081500
LAST-MODIFIED:20260417T114533Z
SEQUENCE:0
SUMMARY:SESIÓN 1 Dislipem·IA | ¿Cómo integrar la IA en la práctica clíni
 ca sin perder el juicio clínico?
TRANSP:OPAQUE
UID:1776154728159-44952@ical.marudot.com
BEGIN:VALARM
ACTION:DISPLAY
DESCRIPTION:SESIÓN 1 Dislipem·IA | ¿Cómo integrar la IA en la práctica c
 línica sin perder el juicio clínico?
TRIGGER:-P1D
UID:01809F00-5300-464F-BFB9-7C2392E1B5C4
X-WR-ALARMUID:01809F00-5300-464F-BFB9-7C2392E1B5C4
END:VALARM
BEGIN:VALARM
ACTION:DISPLAY
DESCRIPTION:SESIÓN 1 Dislipem·IA | ¿Cómo integrar la IA en la práctica c
 línica sin perder el juicio clínico?
TRIGGER:-PT30M
UID:84D15E71-4F05-4386-B32B-2616E1EABCBD
X-WR-ALARMUID:84D15E71-4F05-4386-B32B-2616E1EABCBD
END:VALARM
END:VEVENT
END:VCALENDAR
