BEGIN:VCALENDAR
CALSCALE:GREGORIAN
PRODID:-//Apple Inc.//macOS 26.2//EN
VERSION:2.0
BEGIN:VTIMEZONE
TZID:Europe/Madrid
BEGIN:DAYLIGHT
DTSTART:19810329T020000
RRULE:FREQ=YEARLY;BYMONTH=3;BYDAY=-1SU
TZNAME:CEST
TZOFFSETFROM:+0100
TZOFFSETTO:+0200
END:DAYLIGHT
BEGIN:STANDARD
DTSTART:19961027T030000
RRULE:FREQ=YEARLY;BYMONTH=10;BYDAY=-1SU
TZNAME:CET
TZOFFSETFROM:+0200
TZOFFSETTO:+0100
END:STANDARD
END:VTIMEZONE
BEGIN:VEVENT
DESCRIPTION:Enlace de conexión: https://us02web.zoom.us/j/82980993032?pw
 d=Utxq9FaFHca4Wy4alptpZ8gmjdBy1z.1
DTEND;TZID=Europe/Madrid:20260519T084500
DTSTAMP:20260417T114733Z
DTSTART;TZID=Europe/Madrid:20260519T081500
LAST-MODIFIED:20260417T114533Z
SEQUENCE:0
SUMMARY:SESIÓN 2 Dislipem·IA | Utilidad de la IA en el diagnóstico de la
 s dislipemias genéticas
TRANSP:OPAQUE
UID:1776154749981-42800@ical.marudot.com
BEGIN:VALARM
ACTION:DISPLAY
DESCRIPTION:SESIÓN 2 Dislipem·IA | Utilidad de la IA en el diagnóstico d
 e las dislipemias genéticas
TRIGGER:-PT30M
UID:21DA220B-A8B1-493D-808E-837284A5F8E7
X-WR-ALARMUID:21DA220B-A8B1-493D-808E-837284A5F8E7
END:VALARM
BEGIN:VALARM
ACTION:DISPLAY
DESCRIPTION:SESIÓN 2 Dislipem·IA | Utilidad de la IA en el diagnóstico d
 e las dislipemias genéticas
TRIGGER:-P1D
UID:B4F3600D-E171-4E76-B75B-D695615D77AF
X-WR-ALARMUID:B4F3600D-E171-4E76-B75B-D695615D77AF
END:VALARM
END:VEVENT
END:VCALENDAR
