BEGIN:VCALENDAR
CALSCALE:GREGORIAN
PRODID:-//Apple Inc.//macOS 26.2//EN
VERSION:2.0
BEGIN:VTIMEZONE
TZID:Europe/Madrid
BEGIN:DAYLIGHT
DTSTART:19810329T020000
RRULE:FREQ=YEARLY;BYMONTH=3;BYDAY=-1SU
TZNAME:CEST
TZOFFSETFROM:+0100
TZOFFSETTO:+0200
END:DAYLIGHT
BEGIN:STANDARD
DTSTART:19961027T030000
RRULE:FREQ=YEARLY;BYMONTH=10;BYDAY=-1SU
TZNAME:CET
TZOFFSETFROM:+0200
TZOFFSETTO:+0100
END:STANDARD
END:VTIMEZONE
BEGIN:VEVENT
DESCRIPTION:Enlace de conexión: https://us02web.zoom.us/j/82980993032?pw
 d=Utxq9FaFHca4Wy4alptpZ8gmjdBy1z.1
DTEND;TZID=Europe/Madrid:20260623T084500
DTSTAMP:20260417T114853Z
DTSTART;TZID=Europe/Madrid:20260623T081500
LAST-MODIFIED:20260417T114533Z
SEQUENCE:0
SUMMARY:SESIÓN 3 Dislipem·IA | Uso de la IA en el Smart-Laboratorio. Ret
 os y oportunidades
TRANSP:OPAQUE
UID:1776154781406-57662@ical.marudot.com
BEGIN:VALARM
ACTION:DISPLAY
DESCRIPTION:SESIÓN 3 Dislipem·IA | Uso de la IA en el Smart-Laboratorio.
  Retos y oportunidades
TRIGGER:-PT30M
UID:D6E69B95-DC64-4453-8271-45528BA499C2
X-WR-ALARMUID:D6E69B95-DC64-4453-8271-45528BA499C2
END:VALARM
BEGIN:VALARM
ACTION:DISPLAY
DESCRIPTION:SESIÓN 3 Dislipem·IA | Uso de la IA en el Smart-Laboratorio.
  Retos y oportunidades
TRIGGER:-P1D
UID:59B2254A-9091-47C5-B36A-491F47721BB3
X-WR-ALARMUID:59B2254A-9091-47C5-B36A-491F47721BB3
END:VALARM
END:VEVENT
END:VCALENDAR
