BEGIN:VCALENDAR
CALSCALE:GREGORIAN
PRODID:-//Apple Inc.//macOS 26.2//EN
VERSION:2.0
BEGIN:VTIMEZONE
TZID:Europe/Madrid
BEGIN:DAYLIGHT
DTSTART:19810329T020000
RRULE:FREQ=YEARLY;BYMONTH=3;BYDAY=-1SU
TZNAME:CEST
TZOFFSETFROM:+0100
TZOFFSETTO:+0200
END:DAYLIGHT
BEGIN:STANDARD
DTSTART:19961027T030000
RRULE:FREQ=YEARLY;BYMONTH=10;BYDAY=-1SU
TZNAME:CET
TZOFFSETFROM:+0200
TZOFFSETTO:+0100
END:STANDARD
END:VTIMEZONE
BEGIN:VEVENT
DESCRIPTION:Enlace de conexión: https://us02web.zoom.us/j/82980993032?pw
 d=Utxq9FaFHca4Wy4alptpZ8gmjdBy1z.1
DTEND;TZID=Europe/Madrid:20260929T084500
DTSTAMP:20260417T114902Z
DTSTART;TZID=Europe/Madrid:20260929T081500
LAST-MODIFIED:20260417T114533Z
SEQUENCE:0
SUMMARY:SESIÓN 4 Dislipem·IA | IA y Metabolómica en el campo de las disl
 ipemias. Un binomio hacia la personalización del tratamiento
TRANSP:OPAQUE
UID:1776154833613-41523@ical.marudot.com
BEGIN:VALARM
ACTION:DISPLAY
DESCRIPTION:SESIÓN 4 Dislipem·IA | IA y Metabolómica en el campo de las 
 dislipemias. Un binomio hacia la personalización del tratamiento
TRIGGER:-PT30M
UID:669D4D49-5B2A-44F7-B3B5-AF5EE5E00043
X-WR-ALARMUID:669D4D49-5B2A-44F7-B3B5-AF5EE5E00043
END:VALARM
BEGIN:VALARM
ACTION:DISPLAY
DESCRIPTION:SESIÓN 4 Dislipem·IA | IA y Metabolómica en el campo de las 
 dislipemias. Un binomio hacia la personalización del tratamiento
TRIGGER:-P1D
UID:8869C20F-A27F-478D-9A2F-251ACEE401BC
X-WR-ALARMUID:8869C20F-A27F-478D-9A2F-251ACEE401BC
END:VALARM
END:VEVENT
END:VCALENDAR
