BEGIN:VCALENDAR
CALSCALE:GREGORIAN
PRODID:-//Apple Inc.//macOS 26.2//EN
VERSION:2.0
BEGIN:VTIMEZONE
TZID:Europe/Madrid
BEGIN:DAYLIGHT
DTSTART:19810329T020000
RRULE:FREQ=YEARLY;BYMONTH=3;BYDAY=-1SU
TZNAME:CEST
TZOFFSETFROM:+0100
TZOFFSETTO:+0200
END:DAYLIGHT
BEGIN:STANDARD
DTSTART:19961027T030000
RRULE:FREQ=YEARLY;BYMONTH=10;BYDAY=-1SU
TZNAME:CET
TZOFFSETFROM:+0200
TZOFFSETTO:+0100
END:STANDARD
END:VTIMEZONE
BEGIN:VEVENT
DESCRIPTION:Enlace de conexión: https://us02web.zoom.us/j/82980993032?pw
 d=Utxq9FaFHca4Wy4alptpZ8gmjdBy1z.1
DTEND;TZID=Europe/Madrid:20261027T084500
DTSTAMP:20260417T114907Z
DTSTART;TZID=Europe/Madrid:20261027T081500
LAST-MODIFIED:20260417T114533Z
SEQUENCE:0
SUMMARY:SESIÓN 5 Dislipem·IA | Aplicaciones de la IA en el diseño de un 
 proyecto de investigación en el campo de las dislipemias ¿Cómo conseguir
  la aprobación de tu CEIM?
TRANSP:OPAQUE
UID:1776154865705-11872@ical.marudot.com
BEGIN:VALARM
ACTION:DISPLAY
DESCRIPTION:SESIÓN 5 Dislipem·IA | Aplicaciones de la IA en el diseño de
  un proyecto de investigación en el campo de las dislipemias ¿Cómo conse
 guir la aprobación de tu CEIM?
TRIGGER:-P1D
UID:4B76B505-E282-4C2D-8F77-A1EC1335A841
X-WR-ALARMUID:4B76B505-E282-4C2D-8F77-A1EC1335A841
END:VALARM
BEGIN:VALARM
ACTION:DISPLAY
DESCRIPTION:SESIÓN 5 Dislipem·IA | Aplicaciones de la IA en el diseño de
  un proyecto de investigación en el campo de las dislipemias ¿Cómo conse
 guir la aprobación de tu CEIM?
TRIGGER:-PT30M
UID:830ABCD8-54B2-48D0-AA23-F76184157FEE
X-WR-ALARMUID:830ABCD8-54B2-48D0-AA23-F76184157FEE
END:VALARM
END:VEVENT
END:VCALENDAR
