BEGIN:VCALENDAR
CALSCALE:GREGORIAN
PRODID:-//Apple Inc.//macOS 26.2//EN
VERSION:2.0
BEGIN:VTIMEZONE
TZID:Europe/Madrid
BEGIN:DAYLIGHT
DTSTART:19810329T020000
RRULE:FREQ=YEARLY;BYMONTH=3;BYDAY=-1SU
TZNAME:CEST
TZOFFSETFROM:+0100
TZOFFSETTO:+0200
END:DAYLIGHT
BEGIN:STANDARD
DTSTART:19961027T030000
RRULE:FREQ=YEARLY;BYMONTH=10;BYDAY=-1SU
TZNAME:CET
TZOFFSETFROM:+0200
TZOFFSETTO:+0100
END:STANDARD
END:VTIMEZONE
BEGIN:VEVENT
DESCRIPTION:Enlace de conexión: https://us02web.zoom.us/j/82980993032?pw
 d=Utxq9FaFHca4Wy4alptpZ8gmjdBy1z.1
DTEND;TZID=Europe/Madrid:20261124T084500
DTSTAMP:20260417T114911Z
DTSTART;TZID=Europe/Madrid:20261124T081500
LAST-MODIFIED:20260417T114533Z
SEQUENCE:0
SUMMARY:SESIÓN 6 Dislipem·IA | Del dato de calidad al algoritmo de IA co
 mo co-piloto en práctica clínica. El ejemplo de la enfermedad arterioscl
 erótica
TRANSP:OPAQUE
UID:1776154884868-17152@ical.marudot.com
BEGIN:VALARM
ACTION:DISPLAY
DESCRIPTION:SESIÓN 6 Dislipem·IA | Del dato de calidad al algoritmo de I
 A como co-piloto en práctica clínica. El ejemplo de la enfermedad arteri
 osclerótica
TRIGGER:-PT30M
UID:8CAF28A3-9062-4D66-90D8-6C460B938479
X-WR-ALARMUID:8CAF28A3-9062-4D66-90D8-6C460B938479
END:VALARM
BEGIN:VALARM
ACTION:DISPLAY
DESCRIPTION:SESIÓN 6 Dislipem·IA | Del dato de calidad al algoritmo de I
 A como co-piloto en práctica clínica. El ejemplo de la enfermedad arteri
 osclerótica
TRIGGER:-P1D
UID:C33E00C6-A8F2-48C8-B8B9-B00C7606F196
X-WR-ALARMUID:C33E00C6-A8F2-48C8-B8B9-B00C7606F196
END:VALARM
END:VEVENT
END:VCALENDAR
