BEGIN:VCALENDAR
CALSCALE:GREGORIAN
PRODID:-//Apple Inc.//macOS 26.2//EN
VERSION:2.0
BEGIN:VTIMEZONE
TZID:Europe/Madrid
BEGIN:DAYLIGHT
DTSTART:19810329T020000
RRULE:FREQ=YEARLY;BYMONTH=3;BYDAY=-1SU
TZNAME:CEST
TZOFFSETFROM:+0100
TZOFFSETTO:+0200
END:DAYLIGHT
BEGIN:STANDARD
DTSTART:19961027T030000
RRULE:FREQ=YEARLY;BYMONTH=10;BYDAY=-1SU
TZNAME:CET
TZOFFSETFROM:+0200
TZOFFSETTO:+0100
END:STANDARD
END:VTIMEZONE
BEGIN:VEVENT
DTEND;TZID=Europe/Madrid:20261215T084500
DTSTAMP:20260414T120911Z
DTSTART;TZID=Europe/Madrid:20261215T081500
LAST-MODIFIED:20260414T120900Z
SEQUENCE:1
SUMMARY:Sesión 7 Dislipem·IA | IA para búsqueda y análisis bibliográfico
 : aplicaciones en arteriosclerosis
TRANSP:OPAQUE
UID:1776154918495-16312@ical.marudot.com
BEGIN:VALARM
ACTION:DISPLAY
DESCRIPTION:Sesión 7 Dislipem·IA | IA para búsqueda y análisis bibliográ
 fico: aplicaciones en arteriosclerosis
TRIGGER:-P1D
UID:CA6711DB-7144-47F8-B207-4CEAA23BAE3D
X-WR-ALARMUID:CA6711DB-7144-47F8-B207-4CEAA23BAE3D
END:VALARM
BEGIN:VALARM
ACTION:DISPLAY
DESCRIPTION:Sesión 7 Dislipem·IA | IA para búsqueda y análisis bibliográ
 fico: aplicaciones en arteriosclerosis
TRIGGER:-PT30M
UID:F906428F-4274-4C4E-8D25-C87838D16F16
X-WR-ALARMUID:F906428F-4274-4C4E-8D25-C87838D16F16
END:VALARM
END:VEVENT
END:VCALENDAR
