BEGIN:VCALENDAR
VERSION:2.0
PRODID:-//ical.marudot.com//iCal Event Maker
CALSCALE:GREGORIAN
BEGIN:VTIMEZONE
TZID:Europe/Madrid
LAST-MODIFIED:20250410T142247Z
TZURL:https://www.tzurl.org/zoneinfo-outlook/Europe/Madrid
X-LIC-LOCATION:Europe/Madrid
BEGIN:DAYLIGHT
TZNAME:CEST
TZOFFSETFROM:+0100
TZOFFSETTO:+0200
DTSTART:19700329T020000
RRULE:FREQ=YEARLY;BYMONTH=3;BYDAY=-1SU
END:DAYLIGHT
BEGIN:STANDARD
TZNAME:CET
TZOFFSETFROM:+0200
TZOFFSETTO:+0100
DTSTART:19701025T030000
RRULE:FREQ=YEARLY;BYMONTH=10;BYDAY=-1SU
END:STANDARD
END:VTIMEZONE
BEGIN:VEVENT
DTSTAMP:20260417T114533Z
UID:1776154728159-44952@ical.marudot.com
DTSTART;TZID=Europe/Madrid:20260428T081500
DTEND;TZID=Europe/Madrid:20260428T084500
SUMMARY:SESIÓN 1 Dislipem·IA | ¿Cómo integrar la IA en la práctica clínica sin perder el juicio clínico?
DESCRIPTION:Enlace de conexión: https://us02web.zoom.us/j/82980993032?pwd=Utxq9FaFHca4Wy4alptpZ8gmjdBy1z.1
BEGIN:VALARM
ACTION:DISPLAY
DESCRIPTION:SESIÓN 1 Dislipem·IA | ¿Cómo integrar la IA en la práctica clínica sin perder el juicio clínico?
TRIGGER:-P1D
END:VALARM
BEGIN:VALARM
ACTION:DISPLAY
DESCRIPTION:SESIÓN 1 Dislipem·IA | ¿Cómo integrar la IA en la práctica clínica sin perder el juicio clínico?
TRIGGER:-PT30M
END:VALARM
END:VEVENT
BEGIN:VEVENT
DTSTAMP:20260417T114533Z
UID:1776154749981-42800@ical.marudot.com
DTSTART;TZID=Europe/Madrid:20260519T081500
DTEND;TZID=Europe/Madrid:20260519T084500
SUMMARY:SESIÓN 2 Dislipem·IA | Utilidad de la IA en el diagnóstico de las dislipemias genéticas
DESCRIPTION:Enlace de conexión: https://us02web.zoom.us/j/82980993032?pwd=Utxq9FaFHca4Wy4alptpZ8gmjdBy1z.1
BEGIN:VALARM
ACTION:DISPLAY
DESCRIPTION:SESIÓN 2 Dislipem·IA | Utilidad de la IA en el diagnóstico de las dislipemias genéticas
TRIGGER:-P1D
END:VALARM
BEGIN:VALARM
ACTION:DISPLAY
DESCRIPTION:SESIÓN 2 Dislipem·IA | Utilidad de la IA en el diagnóstico de las dislipemias genéticas
TRIGGER:-PT30M
END:VALARM
END:VEVENT
BEGIN:VEVENT
DTSTAMP:20260417T114533Z
UID:1776154781406-57662@ical.marudot.com
DTSTART;TZID=Europe/Madrid:20260623T081500
DTEND;TZID=Europe/Madrid:20260623T084500
SUMMARY:SESIÓN 3 Dislipem·IA | Uso de la IA en el Smart-Laboratorio. Retos y oportunidades
DESCRIPTION:Enlace de conexión: https://us02web.zoom.us/j/82980993032?pwd=Utxq9FaFHca4Wy4alptpZ8gmjdBy1z.1
BEGIN:VALARM
ACTION:DISPLAY
DESCRIPTION:SESIÓN 3 Dislipem·IA | Uso de la IA en el Smart-Laboratorio. Retos y oportunidades
TRIGGER:-P1D
END:VALARM
BEGIN:VALARM
ACTION:DISPLAY
DESCRIPTION:SESIÓN 3 Dislipem·IA | Uso de la IA en el Smart-Laboratorio. Retos y oportunidades
TRIGGER:-PT30M
END:VALARM
END:VEVENT
BEGIN:VEVENT
DTSTAMP:20260417T114533Z
UID:1776154833613-41523@ical.marudot.com
DTSTART;TZID=Europe/Madrid:20260929T081500
DTEND;TZID=Europe/Madrid:20260929T084500
SUMMARY:SESIÓN 4 Dislipem·IA | IA y Metabolómica en el campo de las dislipemias. Un binomio hacia la personalización del tratamiento
DESCRIPTION:Enlace de conexión: https://us02web.zoom.us/j/82980993032?pwd=Utxq9FaFHca4Wy4alptpZ8gmjdBy1z.1
BEGIN:VALARM
ACTION:DISPLAY
DESCRIPTION:SESIÓN 4 Dislipem·IA | IA y Metabolómica en el campo de las dislipemias. Un binomio hacia la personalización del tratamiento
TRIGGER:-P1D
END:VALARM
BEGIN:VALARM
ACTION:DISPLAY
DESCRIPTION:SESIÓN 4 Dislipem·IA | IA y Metabolómica en el campo de las dislipemias. Un binomio hacia la personalización del tratamiento
TRIGGER:-PT30M
END:VALARM
END:VEVENT
BEGIN:VEVENT
DTSTAMP:20260417T114533Z
UID:1776154865705-11872@ical.marudot.com
DTSTART;TZID=Europe/Madrid:20261027T081500
DTEND;TZID=Europe/Madrid:20261027T084500
SUMMARY:SESIÓN 5 Dislipem·IA | Aplicaciones de la IA en el diseño de un proyecto de investigación en el campo de las dislipemias ¿Cómo conseguir la aprobación de tu CEIM?
DESCRIPTION:Enlace de conexión: https://us02web.zoom.us/j/82980993032?pwd=Utxq9FaFHca4Wy4alptpZ8gmjdBy1z.1
BEGIN:VALARM
ACTION:DISPLAY
DESCRIPTION:SESIÓN 5 Dislipem·IA | Aplicaciones de la IA en el diseño de un proyecto de investigación en el campo de las dislipemias ¿Cómo conseguir la aprobación de tu CEIM?
TRIGGER:-P1D
END:VALARM
BEGIN:VALARM
ACTION:DISPLAY
DESCRIPTION:SESIÓN 5 Dislipem·IA | Aplicaciones de la IA en el diseño de un proyecto de investigación en el campo de las dislipemias ¿Cómo conseguir la aprobación de tu CEIM?
TRIGGER:-PT30M
END:VALARM
END:VEVENT
BEGIN:VEVENT
DTSTAMP:20260417T114533Z
UID:1776154884868-17152@ical.marudot.com
DTSTART;TZID=Europe/Madrid:20261124T081500
DTEND;TZID=Europe/Madrid:20261124T084500
SUMMARY:SESIÓN 6 Dislipem·IA | Del dato de calidad al algoritmo de IA como co-piloto en práctica clínica. El ejemplo de la enfermedad arteriosclerótica
DESCRIPTION:Enlace de conexión: https://us02web.zoom.us/j/82980993032?pwd=Utxq9FaFHca4Wy4alptpZ8gmjdBy1z.1
BEGIN:VALARM
ACTION:DISPLAY
DESCRIPTION:SESIÓN 6 Dislipem·IA | Del dato de calidad al algoritmo de IA como co-piloto en práctica clínica. El ejemplo de la enfermedad arteriosclerótica
TRIGGER:-P1D
END:VALARM
BEGIN:VALARM
ACTION:DISPLAY
DESCRIPTION:SESIÓN 6 Dislipem·IA | Del dato de calidad al algoritmo de IA como co-piloto en práctica clínica. El ejemplo de la enfermedad arteriosclerótica
TRIGGER:-PT30M
END:VALARM
END:VEVENT
BEGIN:VEVENT
DTSTAMP:20260417T114533Z
UID:1776154918495-16312@ical.marudot.com
DTSTART;TZID=Europe/Madrid:20261215T081500
DTEND;TZID=Europe/Madrid:20261215T084500
SUMMARY:SESIÓN 7 Dislipem·IA | IA para la búsqueda y análisis bibliográfico: aplicaciones en arteriosclerosis
DESCRIPTION:Enlace de conexión: https://us02web.zoom.us/j/82980993032?pwd=Utxq9FaFHca4Wy4alptpZ8gmjdBy1z.1
BEGIN:VALARM
ACTION:DISPLAY
DESCRIPTION:SESIÓN 7 Dislipem·IA | IA para la búsqueda y análisis bibliográfico: aplicaciones en arteriosclerosis
TRIGGER:-P1D
END:VALARM
BEGIN:VALARM
ACTION:DISPLAY
DESCRIPTION:SESIÓN 7 Dislipem·IA | IA para la búsqueda y análisis bibliográfico: aplicaciones en arteriosclerosis
TRIGGER:-PT30M
END:VALARM
END:VEVENT
END:VCALENDAR