{"text_format":"1","workbook":"xlsx","n_sheets":12,"sheets":["Title","Assumptions","Overview","ICS","Trust","Data (to be hidden)","Next steps","Create a report","ICS report","Trust report","Report of both","References"],"not_rendered":{"charts":8,"images":55,"macros":1,"external_links":1,"defined_names":2,"comments":0,"pivot_tables":0},"unopened":[],"bounds":{"document_bytes":16777216,"sheet_cells":100000,"rows_first":2000,"rows_last":500,"rows_between":2000,"halvings":0,"cell_chars":16384,"cell_head_chars":4096},"cells_cut":0,"cells_raw":0,"read":"whole","date_system":"1900"}

{"sheet":"Title","index":0,"n_rows":42,"n_cols":21,"rows_kept":42,"cut":false,"hidden":false,"merged":[]}
[]
[]
[]
[]
[]
[]
[]
[]
[]
[]
[]
[]
[]
[]
[]
[]
[]
[]
[]
[]
[]
[]
[]
[]
[]
[]
[null,null,null,null,null,null,null,null,null,null,null,null,null,null,null,null,null,null,null,null,"URL linked to this QR PI"]
[null,null,null,null,null,null,null,null,null,null,null,null,null,null,null,null,null,null,null,null,"Dupixent (dupilumab) (COPD) PI UK"]
[]
[]
[]
[]
[]
[]
[]
[]
[]
[]
[]
[]
[null,"MAT-XU-2501793 (v1.0)"]
[null,"Date of preparation: July 2025"]

{"sheet":"Assumptions","index":1,"n_rows":0,"n_cols":0,"rows_kept":0,"cut":false,"hidden":false,"merged":[]}

{"sheet":"Overview","index":2,"n_rows":0,"n_cols":0,"rows_kept":0,"cut":false,"hidden":false,"merged":[]}

{"sheet":"ICS","index":3,"n_rows":46,"n_cols":14,"rows_kept":46,"cut":false,"hidden":false,"merged":[[39,4,39,5],[45,4,45,5],[26,10,27,11],[26,13,27,14],[35,2,35,15],[43,4,43,5],[41,4,41,5],[3,2,3,15],[6,3,6,5],[16,2,16,15],[21,10,22,11],[21,13,22,14],[6,7,6,14],[8,7,8,14]]}
[]
[]
[]
[null,null,"ICS Overview 23-24 (2)"]
[]
[]
[null,null,null,null,null,null,null,"ICS"]
[]
[null,null,null,null,null,null,null,"Joined up care Derbyshire (I19)"]
[]
[]
[]
[]
[]
[]
[]
[null,null,"Costs associated with COPD non-elective admissions"]
[]
[null,null,null,null,"Severe exacerbations (9)"]
[]
[null,null,null,null,"Resources","Frequency per exacerbation","Unit costs","Average cost per exacerbation"]
[null,null,null,null,"Ambulance transport",0.7,244.09,{"$f":"F22*G22","v":170.863},null,null,"Annual per patient cost",null,null,{"$f":"H34*'Data (to be hidden)'!C12","v":5445.8235517241374}]
[null,null,null,null,"A&E admission",0.88,312.49,{"$f":"F23*G23","v":274.99119999999999}]
[null,null,null,null,"Hospital stay (LOS)",1,{"$f":"'Data (to be hidden)'!C11","v":2574.0100000000002},{"$f":"F24*G24","v":2574.0100000000002}]
[null,null,null,null,"ICU (LOS)",0.01,2330.2199999999998,23.302199999999999]
[null,null,null,null,"Readmission within 30 days",0.14000000000000001,3239.4,453.51600000000008]
[null,null,null,null,"Ventilation",7.0000000000000007E-2,1080.6199999999999,75.6434,null,null,"Annual population cost",null,null,{"$f":"N22*'Data (to be hidden)'!C9","v":8686088.5649999995}]
[null,null,null,null,"Oxygen therapy",0.02,265.57,5.3113999999999999]
[null,null,null,null,"CT scan",0.1,114.61,11.461]
[null,null,null,null,"Echocardiogram",0.05,91.6,4.58]
[null,null,null,null,"CPAP therapy",0.01,1080.6199999999999,10.806199999999999]
[null,null,null,null,"Follow-up outpatient appointments within 30 days of exacerbation",0.18,166.77,30.018599999999999]
[null,null,null,null,"Follow-up outpatient appointments within 90 days of exacerbation",0.37,166.77,61.704900000000002]
[null,null,null,null,"Total per exacerbation",null,null,{"$f":"SUM(H22:H33)","v":3696.2078999999999}]
[]
[null,null,"Impact of reduced exacerbations"]
[]
[]
[]
[null,null,null,null,"Percentage of admitted patients on triple therapy:",null,null,0.4]
[]
[null,null,null,null,"Percentage of triple therapy patients with raised EOS",null,null,0.4]
[]
[null,null,null,null,"Number admitted patients eligible for Dupixent",null,null,{"$f":"'Data (to be hidden)'!G8","v":255.20000000000002}]
[]
[null,null,null,null,"Reduction in severe exacerbations whilst on Dupixent:",null,null,0.32]

{"sheet":"Trust","index":4,"n_rows":46,"n_cols":14,"rows_kept":46,"cut":false,"hidden":false,"merged":[[39,4,39,5],[45,4,45,5],[16,2,16,15],[35,2,35,15],[3,2,3,15],[6,3,6,5],[26,10,27,11],[21,10,22,11],[21,13,22,14],[26,13,27,14],[6,7,6,14],[8,7,8,14],[41,4,41,5],[43,4,43,5]]}
[]
[]
[]
[null,null,"Trust Overview 23-24 (2)"]
[]
[]
[null,null,null,null,null,null,null,"Trust"]
[]
[null,null,null,null,null,null,null,"UNIVERSITY HOSPITALS OF NORTH MIDLANDS NHS TRUST"]
[]
[]
[]
[]
[]
[]
[]
[null,null,"Costs associated with COPD"]
[]
[null,null,null,null,"Severe exacerbations (9)"]
[]
[null,null,null,null,"Resources","Frequency per exacerbation","Unit costs","Average cost per exacerbation"]
[null,null,null,null,"Ambulance transport",0.7,244.09,{"$f":"G22*F22","v":170.863},null,null,"Annual cost per patient",null,null,{"$f":"H34*'Data (to be hidden)'!C30","v":5543.278062985527}]
[null,null,null,null,"A&E admission",0.88,312.49,{"$f":"G23*F23","v":274.99119999999999}]
[null,null,null,null,"Hospital stay (LOS)",1,{"$f":"'Data (to be hidden)'!C29","v":2355.0518828911254},2355.0518828911254]
[null,null,null,null,"ICU (LOS)",0.01,2330.2199999999998,23.302199999999999]
[null,null,null,null,"Readmission within 30 days",0.14000000000000001,3239.4,453.51600000000008]
[null,null,null,null,"Ventilation",7.0000000000000007E-2,1080.6199999999999,75.6434,null,null,"Annual population cost",null,null,{"$f":"N22*'Data (to be hidden)'!C27","v":8536648.216997711}]
[null,null,null,null,"Oxygen therapy",0.02,265.57,5.3113999999999999]
[null,null,null,null,"CT scan",0.1,114.61,11.461]
[null,null,null,null,"Echocardiogram",0.05,91.6,4.58]
[null,null,null,null,"CPAP therapy",0.01,1080.6199999999999,10.806199999999999]
[null,null,null,null,"Follow-up outpatient appointments within 30 days of exacerbation",0.18,166.77,30.018599999999999]
[null,null,null,null,"Follow-up outpatient appointments within 90 days of exacerbation",0.37,166.77,61.704900000000002]
[null,null,null,null,"Total per exacerbation",null,null,{"$f":"SUM(H22:H33)","v":3477.2497828911251}]
[]
[null,null,"Impact of reduced exacerbations"]
[]
[]
[]
[null,null,null,null,"Percentage of admitted patients on triple therapy:",null,null,0.4]
[]
[null,null,null,null,"Percentage of triple therapy patients with rasied EOS",null,null,0.4]
[]
[null,null,null,null,"Number admitted patients eligible for Dupixent",null,null,{"$f":"'Data (to be hidden)'!G26","v":246.4}]
[]
[null,null,null,null,"Reduction in severe exacerbations:",null,null,0.32]

{"sheet":"Data (to be hidden)","index":5,"n_rows":149,"n_cols":34,"rows_kept":149,"cut":false,"hidden":true,"merged":[[2,1,2,2],[6,1,6,2],[6,5,6,6],[6,9,6,10],[25,4,27,4],[20,1,20,2],[24,1,24,2],[24,5,24,6],[24,9,24,10]]}
[]
[]
[null,"Selected ICS Data",null,null,null,null,null,null,null,null,null,null,null,null,"Provider Trust","Admissions","Patients","Total Bed days","Avg. Bed Days","Avg. Cost","Average Admissions per Patient","% Readmitted within 30 days","% Readmitted within 90 days",null,"ICS Provider View","Total Bed Days (sum)","Total Bed Days (average)","Total Cost (sum)","Patient (count)","Admissions (count)","Admissions per patient","Total Cost (average)","% Readmitted within 30 days","% Readmitted within 90 days"]
[null,null,null,null,null,null,null,null,null,null,null,null,null,null,"AIREDALE NHS FOUNDATION TRUST",595,340,2535,{"$f":"Trust[[#This Row],[Total Bed days]]/Trust[[#This Row],[Admissions]]","v":4.2605042016806722},1916.057474747475,{"$f":"Trust[[#This Row],[Admissions]]/Trust[[#This Row],[Patients]]","v":1.75},9.9173553719008267E-2,0.18181818181818182,null,"Bath and North East Somerset, Swindon and Wiltshire Integrated Care System (I07)",9855,{"$f":"ICS[[#This Row],[Total Bed Days (sum)]]/ICS[[#This Row],[Admissions (count)]]","v":5.3559782608695654},4102805.07,1320,1840,{"$f":"ICS[[#This Row],[Admissions (count)]]/ICS[[#This Row],[Patient (count)]]","v":1.393939393939394},2316.66,9.7368421052631576E-2,0.1736842105263158]
[null,"ICS",{"$f":"ICS!H9","v":"Joined up care Derbyshire (I19)"},null,null,null,null,null,null,null,null,null,null,null,"ALDER HEY CHILDREN'S NHS FOUNDATION TRUST",7,7,15,{"$f":"Trust[[#This Row],[Total Bed days]]/Trust[[#This Row],[Admissions]]","v":2.1428571428571428},9587.6890000000003,{"$f":"Trust[[#This Row],[Admissions]]/Trust[[#This Row],[Patients]]","v":1},"","",null,"Bedfordshire, Luton and Milton Keynes Integrated Care System (I21)",12770,{"$f":"ICS[[#This Row],[Total Bed Days (sum)]]/ICS[[#This Row],[Admissions (count)]]","v":5.995305164319249},6375459.6500000004,1375,2130,{"$f":"ICS[[#This Row],[Admissions (count)]]/ICS[[#This Row],[Patient (count)]]","v":1.5490909090909091},2994.58,8.4862385321100922E-2,0.17660550458715596]
[null,null,null,null,null,null,null,null,null,null,null,null,null,null,"ASHFORD AND ST PETER'S HOSPITALS NHS FOUNDATION TRUST",530,365,3000,{"$f":"Trust[[#This Row],[Total Bed days]]/Trust[[#This Row],[Admissions]]","v":5.6603773584905657},2830.1756053130935,{"$f":"Trust[[#This Row],[Admissions]]/Trust[[#This Row],[Patients]]","v":1.452054794520548},7.6923076923076927E-2,0.1623931623931624,null,"Birmingham and Solihull Integrated Care System (I18)",22940,{"$f":"ICS[[#This Row],[Total Bed Days (sum)]]/ICS[[#This Row],[Admissions (count)]]","v":5.1205357142857144},11373187.27,3160,4480,{"$f":"ICS[[#This Row],[Admissions (count)]]/ICS[[#This Row],[Patient (count)]]","v":1.4177215189873418},2777.34,0.10799136069114471,0.20950323974082075]
[null,"Original Population",null,null,null,"Future Population",null,null,null,"Change",null,null,null,null,"BARKING, HAVERING AND REDBRIDGE UNIVERSITY HOSPITALS NHS TRUST",1260,730,7460,{"$f":"Trust[[#This Row],[Total Bed days]]/Trust[[#This Row],[Admissions]]","v":5.9206349206349209},2763.228814638027,{"$f":"Trust[[#This Row],[Admissions]]/Trust[[#This Row],[Patients]]","v":1.726027397260274},0.13732394366197184,0.23239436619718309,null,"Bristol, North Somerset and South Gloucestershire Integrated Care System (I08)",14460,{"$f":"ICS[[#This Row],[Total Bed Days (sum)]]/ICS[[#This Row],[Admissions (count)]]","v":5.1921005385996413},5028570.5199999996,1895,2785,{"$f":"ICS[[#This Row],[Admissions (count)]]/ICS[[#This Row],[Patient (count)]]","v":1.4696569920844327},2297.1999999999998,7.8534031413612565E-2,0.15881326352530542]
[null,"Admissions",{"$f":"_xlfn.XLOOKUP(C5,ICS[ICS Provider View],ICS[Admissions (count)],\"\")","v":2350},null,null,"Eligible dupi patients",{"$f":"IF(ICS!H46>0.3226,\"\",(C9*ICS!H40)*ICS!H42)","v":255.20000000000002},null,null,"Cost",{"$f":"G15-C15","v":-444727.73452800047},null,null,null,"BARNSLEY HOSPITAL NHS FOUNDATION TRUST",1160,800,6380,{"$f":"Trust[[#This Row],[Total Bed days]]/Trust[[#This Row],[Admissions]]","v":5.5},3002.7008644366197,{"$f":"Trust[[#This Row],[Admissions]]/Trust[[#This Row],[Patients]]","v":1.45},0.10714285714285714,0.1984126984126984,null,"Buckinghamshire, Oxfordshire and Berkshire West Integrated Care System (I13)",11350,{"$f":"ICS[[#This Row],[Total Bed Days (sum)]]/ICS[[#This Row],[Admissions (count)]]","v":4.4249512670565299},5890309.04,1705,2565,{"$f":"ICS[[#This Row],[Admissions (count)]]/ICS[[#This Row],[Patient (count)]]","v":1.5043988269794721},2299.11,0.11195445920303605,0.18785578747628084]
[null,"Patients",{"$f":"_xlfn.XLOOKUP(C5,ICS[ICS Provider View],ICS[Patient (count)],\"\")","v":1595},null,null,"Admissions per biologic patient",{"$f":"C12*(1-ICS!H46)","v":1.0018808777429467},null,null,"Admissions",{"$f":"G12-C8","v":-120.32000000000016},null,null,null,"BARTS HEALTH NHS TRUST",1160,750,8005,{"$f":"Trust[[#This Row],[Total Bed days]]/Trust[[#This Row],[Admissions]]","v":6.9008620689655169},3712.9014965517244,{"$f":"Trust[[#This Row],[Admissions]]/Trust[[#This Row],[Patients]]","v":1.5466666666666666},0.10034602076124567,0.17993079584775087,null,"Cambridgeshire & Peterborough Integrated Care System (I41)",13265,{"$f":"ICS[[#This Row],[Total Bed Days (sum)]]/ICS[[#This Row],[Admissions (count)]]","v":6.3621103117505999},5594499.29,1330,2085,{"$f":"ICS[[#This Row],[Admissions (count)]]/ICS[[#This Row],[Patient (count)]]","v":1.5676691729323309},2703.96,5.9642147117296221E-2,0.12524850894632206]
[null,"Avg. Bed Days",{"$f":"_xlfn.XLOOKUP(C5,ICS[ICS Provider View],ICS[Total Bed Days (average)],\"\")","v":5.6042553191489359},null,null,"Admissions biologic patients",{"$f":"G9*G8","v":255.68},null,null,"Bed days",{"$f":"G16-C13","v":-674.30400000000191},null,null,null,"BEDFORDSHIRE HOSPITALS NHS FOUNDATION TRUST",1405,935,7280,{"$f":"Trust[[#This Row],[Total Bed days]]/Trust[[#This Row],[Admissions]]","v":5.1814946619217084},2929.0694672830723,{"$f":"Trust[[#This Row],[Admissions]]/Trust[[#This Row],[Patients]]","v":1.5026737967914439},8.2758620689655171E-2,0.17241379310344829,null,"Cheshire and Merseyside Health and Care Partnership (I30)",41045,{"$f":"ICS[[#This Row],[Total Bed Days (sum)]]/ICS[[#This Row],[Admissions (count)]]","v":5.2386726228462033},19309457.800000001,5250,7835,{"$f":"ICS[[#This Row],[Admissions (count)]]/ICS[[#This Row],[Patient (count)]]","v":1.4923809523809524},2470.5,8.9084065244667499E-2,0.1794228356336261]
[null,"Avg. Cost per admission",{"$f":"_xlfn.XLOOKUP(C5,ICS[ICS Provider View],ICS[Total Cost (average)],\"\")","v":2574.0100000000002},null,null,"Admissions rest of population",{"$f":"(C9-G8)*C12","v":1973.9999999999998},null,null,null,null,null,null,null,"BERKSHIRE HEALTHCARE NHS FOUNDATION TRUST",7,7,105,{"$f":"Trust[[#This Row],[Total Bed days]]/Trust[[#This Row],[Admissions]]","v":15},4529.6224000000002,{"$f":"Trust[[#This Row],[Admissions]]/Trust[[#This Row],[Patients]]","v":1},"","",null,"Cornwall and the Isles of Scilly Integrated Care System (I09)",3930,{"$f":"ICS[[#This Row],[Total Bed Days (sum)]]/ICS[[#This Row],[Admissions (count)]]","v":4.2950819672131146},1859477.39,560,915,{"$f":"ICS[[#This Row],[Admissions (count)]]/ICS[[#This Row],[Patient (count)]]","v":1.6339285714285714},2032.22,7.6142131979695438E-2,0.13705583756345177]
[null,"Admissions per patient",{"$f":"_xlfn.XLOOKUP(C5,ICS[ICS Provider View],ICS[Admissions per patient],\"\")","v":1.4733542319749215},null,null,"Future Population Admissions",{"$f":"G10+G11","v":2229.6799999999998},null,null,null,null,null,null,null,"BIRMINGHAM WOMEN'S AND CHILDREN'S NHS FOUNDATION TRUST",7,7,15,{"$f":"Trust[[#This Row],[Total Bed days]]/Trust[[#This Row],[Admissions]]","v":2.1428571428571428},9639.7459999999992,{"$f":"Trust[[#This Row],[Admissions]]/Trust[[#This Row],[Patients]]","v":1},"","",null,"Coventry and Warwickshire Integrated Care System (I33)",12715,{"$f":"ICS[[#This Row],[Total Bed Days (sum)]]/ICS[[#This Row],[Admissions (count)]]","v":5.3424369747899156},5490821.3799999999,1605,2380,{"$f":"ICS[[#This Row],[Admissions (count)]]/ICS[[#This Row],[Patient (count)]]","v":1.4828660436137071},2311.92,8.7128712871287123E-2,0.16633663366336635]
[null,"Total Bed Days",{"$f":"_xlfn.XLOOKUP(C5,ICS[ICS Provider View],ICS[Total Bed Days (sum)],\"\")","v":13170},null,null,"Admission cost for biologic pop",{"$f":"G10*ICS!H34","v":945046.43587199994},null,null,null,null,null,null,null,"BLACKPOOL TEACHING HOSPITALS NHS FOUNDATION TRUST",1065,820,6805,{"$f":"Trust[[#This Row],[Total Bed days]]/Trust[[#This Row],[Admissions]]","v":6.389671361502347},2635.6418603773586,{"$f":"Trust[[#This Row],[Admissions]]/Trust[[#This Row],[Patients]]","v":1.2987804878048781},6.8669527896995708E-2,0.13733905579399142,null,"Devon Integrated Care System (I31)",14015,{"$f":"ICS[[#This Row],[Total Bed Days (sum)]]/ICS[[#This Row],[Admissions (count)]]","v":4.7428087986463625},6175084.4199999999,1895,2955,{"$f":"ICS[[#This Row],[Admissions (count)]]/ICS[[#This Row],[Patient (count)]]","v":1.5593667546174141},2093.96,0.10552763819095477,0.20100502512562815]
[null,"Patients eligible for biologics",{"$f":"C9*ICS!H40","v":638},null,null,"Admission cost for rest of pop",{"$f":"G11*ICS!H34","v":7296314.3945999993},null,null,null,null,null,null,null,"BOLTON NHS FOUNDATION TRUST",765,500,5185,{"$f":"Trust[[#This Row],[Total Bed days]]/Trust[[#This Row],[Admissions]]","v":6.7777777777777777},2276.6160681520314,{"$f":"Trust[[#This Row],[Admissions]]/Trust[[#This Row],[Patients]]","v":1.53},0.11560693641618497,0.21965317919075145,null,"Dorset Integrated Care System (I10)",10550,{"$f":"ICS[[#This Row],[Total Bed Days (sum)]]/ICS[[#This Row],[Admissions (count)]]","v":5.0238095238095237},4820387.2,1330,2100,{"$f":"ICS[[#This Row],[Admissions (count)]]/ICS[[#This Row],[Patient (count)]]","v":1.5789473684210527},2293.2399999999998,9.7902097902097904E-2,0.19347319347319347]
[null,"Total Cost",{"$f":"ICS!N27","v":8686088.5649999995},null,null,"Future Total Cost",{"$f":"G13+G14","v":8241360.830471999},null,null,null,null,null,null,null,"BRADFORD TEACHING HOSPITALS NHS FOUNDATION TRUST",785,515,4925,{"$f":"Trust[[#This Row],[Total Bed days]]/Trust[[#This Row],[Admissions]]","v":6.2738853503184711},1786.5118339719027,{"$f":"Trust[[#This Row],[Admissions]]/Trust[[#This Row],[Patients]]","v":1.5242718446601942},0.10752688172043011,0.22043010752688172,null,"Frimley Health and Care (I14)",7390,{"$f":"ICS[[#This Row],[Total Bed Days (sum)]]/ICS[[#This Row],[Admissions (count)]]","v":6.8744186046511624},3233258.88,725,1075,{"$f":"ICS[[#This Row],[Admissions (count)]]/ICS[[#This Row],[Patient (count)]]","v":1.4827586206896552},3016.1,7.9646017699115043E-2,0.16371681415929204]
[null,"Readmission within 30 days",{"$f":"_xlfn.XLOOKUP(C5,ICS[ICS Provider View],ICS[% Readmitted within 30 days])","v":9.355509355509356E-2},null,null,"Future Total Bed Days",{"$f":"G12*C10","v":12495.695999999998},null,null,null,null,null,null,null,"BUCKINGHAMSHIRE HEALTHCARE NHS TRUST",470,350,2410,{"$f":"Trust[[#This Row],[Total Bed days]]/Trust[[#This Row],[Admissions]]","v":5.1276595744680851},2618.480321961621,{"$f":"Trust[[#This Row],[Admissions]]/Trust[[#This Row],[Patients]]","v":1.3428571428571427},9.7087378640776698E-2,0.17475728155339806,null,"Greater Manchester Integrated Care Partnership (I05)",44255,{"$f":"ICS[[#This Row],[Total Bed Days (sum)]]/ICS[[#This Row],[Admissions (count)]]","v":4.9336677814938685},22216665.27,5700,8970,{"$f":"ICS[[#This Row],[Admissions (count)]]/ICS[[#This Row],[Patient (count)]]","v":1.5736842105263158},2480.65,0.12283549783549784,0.22023809523809523]
[null,"Readmission within 90 days",{"$f":"_xlfn.XLOOKUP(C5,ICS[ICS Provider View],ICS[% Readmitted within 90 days],)","v":0.18295218295218296},null,null,null,null,null,null,null,null,null,null,null,"CALDERDALE AND HUDDERSFIELD NHS FOUNDATION TRUST",1110,740,5460,{"$f":"Trust[[#This Row],[Total Bed days]]/Trust[[#This Row],[Admissions]]","v":4.9189189189189193},2213.8214607754735,{"$f":"Trust[[#This Row],[Admissions]]/Trust[[#This Row],[Patients]]","v":1.5},0.11210762331838565,0.21524663677130046,null,"Hampshire and Isle of Wight Integrated Care System (I15)",24570,{"$f":"ICS[[#This Row],[Total Bed Days (sum)]]/ICS[[#This Row],[Admissions (count)]]","v":5.6224256292906176},11355299.300000001,2695,4370,{"$f":"ICS[[#This Row],[Admissions (count)]]/ICS[[#This Row],[Patient (count)]]","v":1.6215213358070502},2608.02,0.13391877058177826,0.24149286498353459]
[null,null,null,null,null,null,null,null,null,null,null,null,null,null,"CAMBRIDGE UNIVERSITY HOSPITALS NHS FOUNDATION TRUST",680,415,4295,{"$f":"Trust[[#This Row],[Total Bed days]]/Trust[[#This Row],[Admissions]]","v":6.3161764705882355},2911.8986941176468,{"$f":"Trust[[#This Row],[Admissions]]/Trust[[#This Row],[Patients]]","v":1.6385542168674698},6.5217391304347824E-2,0.15217391304347827,null,"Herefordshire and Worcestershire Integrated Care System (I34)",8610,{"$f":"ICS[[#This Row],[Total Bed Days (sum)]]/ICS[[#This Row],[Admissions (count)]]","v":5.1556886227544911},4042903.52,1205,1670,{"$f":"ICS[[#This Row],[Admissions (count)]]/ICS[[#This Row],[Patient (count)]]","v":1.3858921161825726},2422.35,7.2463768115942032E-2,0.1391304347826087]
[null,null,null,null,null,null,null,null,null,null,null,null,null,null,"CHELSEA AND WESTMINSTER HOSPITAL NHS FOUNDATION TRUST",900,500,4515,{"$f":"Trust[[#This Row],[Total Bed days]]/Trust[[#This Row],[Admissions]]","v":5.0166666666666666},2701.1338917410708,{"$f":"Trust[[#This Row],[Admissions]]/Trust[[#This Row],[Patients]]","v":1.8},0.13235294117647059,0.23529411764705882,null,"Hertfordshire and West Essex Integrated Care System (I22)",12960,{"$f":"ICS[[#This Row],[Total Bed Days (sum)]]/ICS[[#This Row],[Admissions (count)]]","v":5.5741935483870968},6124308.6100000003,1510,2325,{"$f":"ICS[[#This Row],[Admissions (count)]]/ICS[[#This Row],[Patient (count)]]","v":1.5397350993377483},2635.24,8.3682008368200833E-2,0.16527196652719664]
[null,null,null,null,null,null,null,null,null,null,null,null,null,null,"CHESTERFIELD ROYAL HOSPITAL NHS FOUNDATION TRUST",475,315,2120,{"$f":"Trust[[#This Row],[Total Bed days]]/Trust[[#This Row],[Admissions]]","v":4.4631578947368418},2061.7082801724141,{"$f":"Trust[[#This Row],[Admissions]]/Trust[[#This Row],[Patients]]","v":1.5079365079365079},0.12264150943396226,0.20754716981132076,null,"Humber and North Yorkshire Health and Care Partnership (I01)",23725,{"$f":"ICS[[#This Row],[Total Bed Days (sum)]]/ICS[[#This Row],[Admissions (count)]]","v":5.0640341515474923},11011135.23,3165,4685,{"$f":"ICS[[#This Row],[Admissions (count)]]/ICS[[#This Row],[Patient (count)]]","v":1.4802527646129542},2374.11,0.10691144708423327,0.20302375809935205]
[null,"Selected Trust Data",null,null,null,null,null,null,null,null,null,null,null,null,"CORNWALL PARTNERSHIP NHS FOUNDATION TRUST",30,30,410,{"$f":"Trust[[#This Row],[Total Bed days]]/Trust[[#This Row],[Admissions]]","v":13.666666666666666},2674.8427741935479,{"$f":"Trust[[#This Row],[Admissions]]/Trust[[#This Row],[Patients]]","v":1},9.3333333333333338E-2,9.3333333333333338E-2,null,"Joined up care Derbyshire (I19)",13170,{"$f":"ICS[[#This Row],[Total Bed Days (sum)]]/ICS[[#This Row],[Admissions (count)]]","v":5.6042553191489359},5945970.5199999996,1595,2350,{"$f":"ICS[[#This Row],[Admissions (count)]]/ICS[[#This Row],[Patient (count)]]","v":1.4733542319749215},2574.0100000000002,9.355509355509356E-2,0.18295218295218296]
[null,null,null,null,null,null,null,null,null,null,null,null,null,null,"COUNTESS OF CHESTER HOSPITAL NHS FOUNDATION TRUST",610,420,3815,{"$f":"Trust[[#This Row],[Total Bed days]]/Trust[[#This Row],[Admissions]]","v":6.2540983606557381},2526.6205845648601,{"$f":"Trust[[#This Row],[Admissions]]/Trust[[#This Row],[Patients]]","v":1.4523809523809523},6.4516129032258063E-2,0.14516129032258066,null,"Kent and Medway Integrated Care System (I32)",24125,{"$f":"ICS[[#This Row],[Total Bed Days (sum)]]/ICS[[#This Row],[Admissions (count)]]","v":6.5468113975576658},10607889.220000001,2730,3685,{"$f":"ICS[[#This Row],[Admissions (count)]]/ICS[[#This Row],[Patient (count)]]","v":1.3498168498168499},2888.07,7.8498293515358364E-2,0.14675767918088736]
[null,"Trust",{"$f":"Trust!H9","v":"UNIVERSITY HOSPITALS OF NORTH MIDLANDS NHS TRUST"},null,null,null,null,null,null,null,null,null,null,null,"COUNTY DURHAM AND DARLINGTON NHS FOUNDATION TRUST",1790,1150,9390,{"$f":"Trust[[#This Row],[Total Bed days]]/Trust[[#This Row],[Admissions]]","v":5.2458100558659222},2316.2981511758112,{"$f":"Trust[[#This Row],[Admissions]]/Trust[[#This Row],[Patients]]","v":1.5565217391304347},0.12668463611859837,0.24258760107816713,null,"Lancashire and South Cumbria Health and Care Partnership (I06)",23835,{"$f":"ICS[[#This Row],[Total Bed Days (sum)]]/ICS[[#This Row],[Admissions (count)]]","v":5.7922235722964759},10506023.550000001,2945,4115,{"$f":"ICS[[#This Row],[Admissions (count)]]/ICS[[#This Row],[Patient (count)]]","v":1.3972835314091681},2559.9499999999998,7.7499999999999999E-2,0.155]
[null,null,null,null,null,null,null,null,null,null,null,null,null,null,"CROYDON HEALTH SERVICES NHS TRUST",525,325,4655,{"$f":"Trust[[#This Row],[Total Bed days]]/Trust[[#This Row],[Admissions]]","v":8.8666666666666671},3479.8922433460079,{"$f":"Trust[[#This Row],[Admissions]]/Trust[[#This Row],[Patients]]","v":1.6153846153846154},7.476635514018691E-2,0.15887850467289719,null,"Leicester, Leicestershire and Rutland Integrated Care System (I35)",15925,{"$f":"ICS[[#This Row],[Total Bed Days (sum)]]/ICS[[#This Row],[Admissions (count)]]","v":5.975609756097561},6283115.1399999997,1700,2665,{"$f":"ICS[[#This Row],[Admissions (count)]]/ICS[[#This Row],[Patient (count)]]","v":1.5676470588235294},2362.96,0.12544802867383512,0.23297491039426524]
[null,"Original Population",null,null,null,"Future Population",null,null,null,"Change",null,null,null,null,"DARTFORD AND GRAVESHAM NHS TRUST",670,505,5620,{"$f":"Trust[[#This Row],[Total Bed days]]/Trust[[#This Row],[Admissions]]","v":8.3880597014925371},3155.0941432835821,{"$f":"Trust[[#This Row],[Admissions]]/Trust[[#This Row],[Patients]]","v":1.3267326732673268},8.1632653061224483E-2,0.17687074829931973,null,"Lincolnshire Integrated Care System (I36)",9115,{"$f":"ICS[[#This Row],[Total Bed Days (sum)]]/ICS[[#This Row],[Admissions (count)]]","v":5.768987341772152},4359517.21,1130,1580,{"$f":"ICS[[#This Row],[Admissions (count)]]/ICS[[#This Row],[Patient (count)]]","v":1.3982300884955752},2760.94,9.3457943925233641E-2,0.16822429906542055]
[null,"Admissions",{"$f":"_xlfn.XLOOKUP(C23,Trust[Provider Trust],Trust[Admissions])","v":2455},null,null,"Eligible biologic patients",{"$f":"IF(Trust!H46>0.3226,\"\",((C27*Trust!H40)*Trust!H42))","v":246.4},null,null,"Cost",{"$f":"G33-C33","v":-437076.38871028274},null,null,null,"DERBYSHIRE COMMUNITY HEALTH SERVICES NHS FOUNDATION TRUST",20,20,455,{"$f":"Trust[[#This Row],[Total Bed days]]/Trust[[#This Row],[Admissions]]","v":22.75},5026.2380000000003,{"$f":"Trust[[#This Row],[Admissions]]/Trust[[#This Row],[Patients]]","v":1},0.35,0.35,null,"Mid and South Essex Integrated Care System (I42)",14945,{"$f":"ICS[[#This Row],[Total Bed Days (sum)]]/ICS[[#This Row],[Admissions (count)]]","v":5.5973782771535578},7039532.5300000003,1800,2670,{"$f":"ICS[[#This Row],[Admissions (count)]]/ICS[[#This Row],[Patient (count)]]","v":1.4833333333333334},2637.52,9.33572710951526E-2,0.18491921005385997]
[null,"Patients",{"$f":"_xlfn.XLOOKUP(C23,Trust[Provider Trust],Trust[Patients])","v":1540},null,null,"Admissions per biologic patient",{"$f":"C30*(1-Trust!H46)","v":1.0840259740259739},null,null,"Admissions",{"$f":"G30-C26","v":-125.69600000000037},null,null,null,"DONCASTER AND BASSETLAW TEACHING HOSPITALS NHS FOUNDATION TRUST",1285,845,5765,{"$f":"Trust[[#This Row],[Total Bed days]]/Trust[[#This Row],[Admissions]]","v":4.4863813229571985},2093.3414473067924,{"$f":"Trust[[#This Row],[Admissions]]/Trust[[#This Row],[Patients]]","v":1.5207100591715976},9.5057034220532313E-2,0.19391634980988592,null,"Norfolk and Waveney Integrated Care System (I24)",16120,{"$f":"ICS[[#This Row],[Total Bed Days (sum)]]/ICS[[#This Row],[Admissions (count)]]","v":6.296875},6298910.1600000001,1840,2560,{"$f":"ICS[[#This Row],[Admissions (count)]]/ICS[[#This Row],[Patient (count)]]","v":1.3913043478260869},2460.5100000000002,0.11531190926275993,0.21739130434782608]
[null,"Avg. Bed Days",{"$f":"_xlfn.XLOOKUP(C23,Trust[Provider Trust],Trust[Avg. Bed Days])","v":4.3686354378818741},null,null,"Admissions biologic patients",{"$f":"G27*G26","v":267.10399999999998},null,null,"Bed days",{"$f":"G34-C31","v":-549.1200000000008},null,null,null,"DORSET COUNTY HOSPITAL NHS FOUNDATION TRUST",340,255,1775,{"$f":"Trust[[#This Row],[Total Bed days]]/Trust[[#This Row],[Admissions]]","v":5.2205882352941178},2311.7511740412979,{"$f":"Trust[[#This Row],[Admissions]]/Trust[[#This Row],[Patients]]","v":1.3333333333333333},6.3291139240506333E-2,0.11392405063291139,null,"North Central London Integrated Care System (I25)",12165,{"$f":"ICS[[#This Row],[Total Bed Days (sum)]]/ICS[[#This Row],[Admissions (count)]]","v":6.6294277929155312},6264232.1100000003,1220,1835,{"$f":"ICS[[#This Row],[Admissions (count)]]/ICS[[#This Row],[Patient (count)]]","v":1.5040983606557377},3612.59,8.7999999999999995E-2,0.192]
[null,"Avg. Cost per admission",{"$f":"_xlfn.XLOOKUP(C23,Trust[Provider Trust],Trust[Avg. Cost])","v":2355.0518828911254},null,null,"Admissions rest of population",{"$f":"(C27-G26)*C30","v":2062.1999999999998},null,null,null,null,null,null,null,"DORSET HEALTHCARE UNIVERSITY NHS FOUNDATION TRUST",7,7,7,{"$f":"Trust[[#This Row],[Total Bed days]]/Trust[[#This Row],[Admissions]]","v":1},4349.2,{"$f":"Trust[[#This Row],[Admissions]]/Trust[[#This Row],[Patients]]","v":1},"",0,null,"North East London Health and Care Partnership (I26)",17095,{"$f":"ICS[[#This Row],[Total Bed Days (sum)]]/ICS[[#This Row],[Admissions (count)]]","v":5.8444444444444441},9222573.6400000006,1760,2925,{"$f":"ICS[[#This Row],[Admissions (count)]]/ICS[[#This Row],[Patient (count)]]","v":1.6619318181818181},3155.17,0.11645962732919254,0.20341614906832298]
[null,"Admissions per patient",{"$f":"_xlfn.XLOOKUP(C23,Trust[Provider Trust],Trust[Average Admissions per Patient])","v":1.5941558441558441},null,null,"Future Population Admissions",{"$f":"(G27*G26)+((C27-G26)*C30)","v":2329.3039999999996},null,null,null,null,null,null,null,"EAST AND NORTH HERTFORDSHIRE NHS TRUST",910,530,5120,{"$f":"Trust[[#This Row],[Total Bed days]]/Trust[[#This Row],[Admissions]]","v":5.6263736263736268},2509.6847083333332,{"$f":"Trust[[#This Row],[Admissions]]/Trust[[#This Row],[Patients]]","v":1.7169811320754718},0.10160427807486631,0.18181818181818182,null,"North East and North Cumbria Integrated Care System (I02)",59265,{"$f":"ICS[[#This Row],[Total Bed Days (sum)]]/ICS[[#This Row],[Admissions (count)]]","v":4.9970489038785839},26877211.760000002,7370,11860,{"$f":"ICS[[#This Row],[Admissions (count)]]/ICS[[#This Row],[Patient (count)]]","v":1.6092265943012212},2392.6999999999998,0.1237070748862226,0.22796855606123292]
[null,"Total Bed Days",{"$f":"_xlfn.XLOOKUP(C23,Trust[Provider Trust],Trust[Total Bed days],\"\")","v":10725},null,null,"Admission cost for biologic pop",{"$f":"(G26*G27)*Trust!$H$34","v":928787.32600935106},null,null,null,null,null,null,null,"EAST CHESHIRE NHS TRUST",225,190,1570,{"$f":"Trust[[#This Row],[Total Bed days]]/Trust[[#This Row],[Admissions]]","v":6.9777777777777779},2743.0882678571425,{"$f":"Trust[[#This Row],[Admissions]]/Trust[[#This Row],[Patients]]","v":1.1842105263157894},8.8888888888888892E-2,0.15555555555555556,null,"North West London Integrated Care System (I27)",17915,{"$f":"ICS[[#This Row],[Total Bed Days (sum)]]/ICS[[#This Row],[Admissions (count)]]","v":5.4042232277526399},9247293.9399999995,1875,3315,{"$f":"ICS[[#This Row],[Admissions (count)]]/ICS[[#This Row],[Patient (count)]]","v":1.768},2797.12,0.12268188302425106,0.22824536376604851]
[null,"Patients eligible for bioloigcs",{"$f":"C27*Trust!H40","v":616},null,null,"Admission cost for rest of pop",{"$f":"((C27-G26)*C30)*Trust!$H$34","v":7170784.5022780774},null,null,null,null,null,null,null,"EAST COAST COMMUNITY HEALTHCARE C.I.C",7,7,40,{"$f":"Trust[[#This Row],[Total Bed days]]/Trust[[#This Row],[Admissions]]","v":5.7142857142857144},4366,{"$f":"Trust[[#This Row],[Admissions]]/Trust[[#This Row],[Patients]]","v":1},1,1,null,"Northamptonshire Integrated Care System (I37)",13200,{"$f":"ICS[[#This Row],[Total Bed Days (sum)]]/ICS[[#This Row],[Admissions (count)]]","v":5.248508946322068},5809848.3499999996,1530,2515,{"$f":"ICS[[#This Row],[Admissions (count)]]/ICS[[#This Row],[Patient (count)]]","v":1.6437908496732025},2311.92,0.14231499051233396,0.26375711574952559]
[null,"Total Cost",{"$f":"Trust!N22*'Data (to be hidden)'!C27","v":8536648.216997711},null,null,"Future Total Cost",{"$f":"((G26*G27)*Trust!$H$34)+(((C27-G26)*C30)*Trust!$H$34)","v":8099571.8282874282},null,null,null,null,null,null,null,"EAST KENT HOSPITALS UNIVERSITY NHS FOUNDATION TRUST",1125,865,7375,{"$f":"Trust[[#This Row],[Total Bed days]]/Trust[[#This Row],[Admissions]]","v":6.5555555555555554},2881.2286149732618,{"$f":"Trust[[#This Row],[Admissions]]/Trust[[#This Row],[Patients]]","v":1.300578034682081},4.8192771084337352E-2,7.2289156626506021E-2,null,"Nottinghamshire Integrated Care System (I20)",15725,{"$f":"ICS[[#This Row],[Total Bed Days (sum)]]/ICS[[#This Row],[Admissions (count)]]","v":4.7942073170731705},8167502.0499999998,1875,3280,{"$f":"ICS[[#This Row],[Admissions (count)]]/ICS[[#This Row],[Patient (count)]]","v":1.7493333333333334},2493.13,0.15578635014836795,0.271513353115727]
[null,"Readmission within 30 days",{"$f":"_xlfn.XLOOKUP(C23,Trust[Provider Trust],Trust[% Readmitted within 30 days])","v":0.11132437619961612},null,null,"Future Total Bed Days",{"$f":"G30*C28","v":10175.879999999999},null,null,null,null,null,null,null,"EAST LANCASHIRE HOSPITALS NHS TRUST",815,600,6205,{"$f":"Trust[[#This Row],[Total Bed days]]/Trust[[#This Row],[Admissions]]","v":7.6134969325153374},2856.7331691176473,{"$f":"Trust[[#This Row],[Admissions]]/Trust[[#This Row],[Patients]]","v":1.3583333333333334},8.8235294117647065E-2,0.16911764705882354,null,"One Gloucestershire Integrated Care System (I11)",6380,{"$f":"ICS[[#This Row],[Total Bed Days (sum)]]/ICS[[#This Row],[Admissions (count)]]","v":6.5773195876288657},2507473.25,735,970,{"$f":"ICS[[#This Row],[Admissions (count)]]/ICS[[#This Row],[Patient (count)]]","v":1.3197278911564625},2985.09,7.0000000000000007E-2,0.14499999999999999]
[null,"Readmission within 90 days",{"$f":"_xlfn.XLOOKUP(C23,Trust[Provider Trust],Trust[% Readmitted within 90 days],)","v":0.20921305182341651},null,null,null,null,null,null,null,null,null,null,null,"EAST SUFFOLK AND NORTH ESSEX NHS FOUNDATION TRUST",1620,1095,8795,{"$f":"Trust[[#This Row],[Total Bed days]]/Trust[[#This Row],[Admissions]]","v":5.4290123456790127},2339.605513897468,{"$f":"Trust[[#This Row],[Admissions]]/Trust[[#This Row],[Patients]]","v":1.4794520547945205},0.08,0.17142857142857143,null,"Shropshire and Telford and Wrekin Integrated Care System (I38)",5970,{"$f":"ICS[[#This Row],[Total Bed Days (sum)]]/ICS[[#This Row],[Admissions (count)]]","v":4.8536585365853657},2737192.75,845,1230,{"$f":"ICS[[#This Row],[Admissions (count)]]/ICS[[#This Row],[Patient (count)]]","v":1.455621301775148},2228.98,9.6774193548387094E-2,0.17338709677419356]
[null,null,null,null,null,null,null,null,null,null,null,null,null,null,"EAST SUSSEX HEALTHCARE NHS TRUST",990,750,5050,{"$f":"Trust[[#This Row],[Total Bed days]]/Trust[[#This Row],[Admissions]]","v":5.1010101010101012},2261.3679209726447,{"$f":"Trust[[#This Row],[Admissions]]/Trust[[#This Row],[Patients]]","v":1.32},5.3398058252427182E-2,0.12621359223300971,null,"Somerset Integrated Care System (I12)",8435,{"$f":"ICS[[#This Row],[Total Bed Days (sum)]]/ICS[[#This Row],[Admissions (count)]]","v":6.7751004016064256},3261325.17,850,1245,{"$f":"ICS[[#This Row],[Admissions (count)]]/ICS[[#This Row],[Patient (count)]]","v":1.4647058823529411},2617.44,0.10317460317460317,0.20634920634920634]
[null,null,null,null,null,null,null,null,null,null,null,null,null,null,"EPSOM AND ST HELIER UNIVERSITY HOSPITALS NHS TRUST",545,370,3705,{"$f":"Trust[[#This Row],[Total Bed days]]/Trust[[#This Row],[Admissions]]","v":6.7981651376146788},3573.6638829981707,{"$f":"Trust[[#This Row],[Admissions]]/Trust[[#This Row],[Patients]]","v":1.472972972972973},0.11504424778761062,0.20353982300884957,null,"South East London Integrated Care System (I28)",17185,{"$f":"ICS[[#This Row],[Total Bed Days (sum)]]/ICS[[#This Row],[Admissions (count)]]","v":5.7283333333333335},9013872.7599999998,1790,3000,{"$f":"ICS[[#This Row],[Admissions (count)]]/ICS[[#This Row],[Patient (count)]]","v":1.6759776536312849},3022.76,0.10789473684210527,0.18815789473684211]
[null,null,null,null,null,null,null,null,null,null,null,null,null,null,"FRIMLEY HEALTH NHS FOUNDATION TRUST",1070,720,7285,{"$f":"Trust[[#This Row],[Total Bed days]]/Trust[[#This Row],[Admissions]]","v":6.8084112149532707},2987.9956020599257,{"$f":"Trust[[#This Row],[Admissions]]/Trust[[#This Row],[Patients]]","v":1.4861111111111112},8.1447963800904979E-2,0.167420814479638,null,"South West London Integrated Care System (I29)",13310,{"$f":"ICS[[#This Row],[Total Bed Days (sum)]]/ICS[[#This Row],[Admissions (count)]]","v":7.3535911602209945},6041426.7999999998,1185,1810,{"$f":"ICS[[#This Row],[Admissions (count)]]/ICS[[#This Row],[Patient (count)]]","v":1.5274261603375527},3343.35,9.9730458221024262E-2,0.19137466307277629]
[null,null,null,null,null,null,null,null,null,null,null,null,null,null,"GATESHEAD HEALTH NHS FOUNDATION TRUST",1025,580,5210,{"$f":"Trust[[#This Row],[Total Bed days]]/Trust[[#This Row],[Admissions]]","v":5.0829268292682928},2074.8841139240503,{"$f":"Trust[[#This Row],[Admissions]]/Trust[[#This Row],[Patients]]","v":1.7672413793103448},0.1553398058252427,0.27669902912621358,null,"South Yorkshire Integrated Care System (I03)",25925,{"$f":"ICS[[#This Row],[Total Bed Days (sum)]]/ICS[[#This Row],[Admissions (count)]]","v":5.0388726919339168},12432944.560000001,3465,5145,{"$f":"ICS[[#This Row],[Admissions (count)]]/ICS[[#This Row],[Patient (count)]]","v":1.4848484848484849},2502.1,0.12204351939451277,0.22138126773888364]
[null,null,null,null,null,null,null,null,null,null,null,null,null,null,"GEORGE ELIOT HOSPITAL NHS TRUST",835,565,4500,{"$f":"Trust[[#This Row],[Total Bed days]]/Trust[[#This Row],[Admissions]]","v":5.3892215568862278},2251.3704330143528,{"$f":"Trust[[#This Row],[Admissions]]/Trust[[#This Row],[Patients]]","v":1.4778761061946903},9.2783505154639179E-2,0.17010309278350516,null,"Staffordshire and Stoke on Trent Integrated Care System (I39)",15110,{"$f":"ICS[[#This Row],[Total Bed Days (sum)]]/ICS[[#This Row],[Admissions (count)]]","v":5.0789915966386552},6819923.7000000002,1795,2975,{"$f":"ICS[[#This Row],[Admissions (count)]]/ICS[[#This Row],[Patient (count)]]","v":1.6573816155988859},2305.59,0.12762520193861066,0.22940226171243941]
[null,null,null,null,null,null,null,null,null,null,null,null,null,null,"GLOUCESTERSHIRE HEALTH AND CARE NHS FOUNDATION TRUST",20,20,470,{"$f":"Trust[[#This Row],[Total Bed days]]/Trust[[#This Row],[Admissions]]","v":23.5},5432.0072380952379,{"$f":"Trust[[#This Row],[Admissions]]/Trust[[#This Row],[Patients]]","v":1},0.35,0.35,null,"Suffolk and North East Essex Integrated Care System (I23)",12890,{"$f":"ICS[[#This Row],[Total Bed Days (sum)]]/ICS[[#This Row],[Admissions (count)]]","v":5.3045267489711936},5837171.9699999997,1610,2430,{"$f":"ICS[[#This Row],[Admissions (count)]]/ICS[[#This Row],[Patient (count)]]","v":1.5093167701863355},2471.2800000000002,8.5714285714285715E-2,0.17551020408163265]
[null,null,null,null,null,null,null,null,null,null,null,null,null,null,"GLOUCESTERSHIRE HOSPITALS NHS FOUNDATION TRUST",875,680,5910,{"$f":"Trust[[#This Row],[Total Bed days]]/Trust[[#This Row],[Admissions]]","v":6.7542857142857144},2928.4219642857147,{"$f":"Trust[[#This Row],[Admissions]]/Trust[[#This Row],[Patients]]","v":1.286764705882353},7.1428571428571425E-2,0.13775510204081631,null,"Surrey Heartlands Health and Care Partnership (I16)",8730,{"$f":"ICS[[#This Row],[Total Bed Days (sum)]]/ICS[[#This Row],[Admissions (count)]]","v":5.7434210526315788},4422219.58,1045,1520,{"$f":"ICS[[#This Row],[Admissions (count)]]/ICS[[#This Row],[Patient (count)]]","v":1.4545454545454546},2909.35,8.4639498432601878E-2,0.14733542319749215]
[null,null,null,null,null,null,null,null,null,null,null,null,null,null,"GREAT ORMOND STREET HOSPITAL FOR CHILDREN NHS FOUNDATION TRUST",7,7,105,{"$f":"Trust[[#This Row],[Total Bed days]]/Trust[[#This Row],[Admissions]]","v":15},39142.616999999998,{"$f":"Trust[[#This Row],[Admissions]]/Trust[[#This Row],[Patients]]","v":1},"",0,null,"Sussex Integrated Care System (I17)",13880,{"$f":"ICS[[#This Row],[Total Bed Days (sum)]]/ICS[[#This Row],[Admissions (count)]]","v":5.0198915009041594},6397627.5700000003,1930,2765,{"$f":"ICS[[#This Row],[Admissions (count)]]/ICS[[#This Row],[Patient (count)]]","v":1.4326424870466321},2337.46,7.6142131979695438E-2,0.14382402707275804]
[null,null,null,null,null,null,null,null,null,null,null,null,null,null,"GREAT WESTERN HOSPITALS NHS FOUNDATION TRUST",715,515,4195,{"$f":"Trust[[#This Row],[Total Bed days]]/Trust[[#This Row],[Admissions]]","v":5.8671328671328675},2278.4450613409413,{"$f":"Trust[[#This Row],[Admissions]]/Trust[[#This Row],[Patients]]","v":1.3883495145631068},0.12962962962962962,0.20370370370370369,null,"The Black Country Integrated Care System (I40)",13665,{"$f":"ICS[[#This Row],[Total Bed Days (sum)]]/ICS[[#This Row],[Admissions (count)]]","v":4.0014641288433381},6285091.5999999996,2370,3415,{"$f":"ICS[[#This Row],[Admissions (count)]]/ICS[[#This Row],[Patient (count)]]","v":1.4409282700421941},1976.44,0.10178817056396149,0.18294360385144429]
[null,null,null,null,null,null,null,null,null,null,null,null,null,null,"GUY'S AND ST THOMAS' NHS FOUNDATION TRUST",310,220,3220,{"$f":"Trust[[#This Row],[Total Bed days]]/Trust[[#This Row],[Admissions]]","v":10.387096774193548},3579.0798533333341,{"$f":"Trust[[#This Row],[Admissions]]/Trust[[#This Row],[Patients]]","v":1.4090909090909092},8.9605734767025089E-2,0.13620071684587814,null,"West Yorkshire Health and Care Partnership (I04)",32265,{"$f":"ICS[[#This Row],[Total Bed Days (sum)]]/ICS[[#This Row],[Admissions (count)]]","v":5.4272497897392764},14422516.09,3585,5945,{"$f":"ICS[[#This Row],[Admissions (count)]]/ICS[[#This Row],[Patient (count)]]","v":1.6582984658298465},2430.9,0.13388429752066117,0.25206611570247933]
[null,null,null,null,null,null,null,null,null,null,null,null,null,null,"HAMPSHIRE HOSPITALS NHS FOUNDATION TRUST",985,645,6445,{"$f":"Trust[[#This Row],[Total Bed days]]/Trust[[#This Row],[Admissions]]","v":6.5431472081218276},2638.6506313645632,{"$f":"Trust[[#This Row],[Admissions]]/Trust[[#This Row],[Patients]]","v":1.5271317829457365},7.7981651376146793E-2,0.15137614678899083]
[null,null,null,null,null,null,null,null,null,null,null,null,null,null,"HARROGATE AND DISTRICT NHS FOUNDATION TRUST",250,160,1295,{"$f":"Trust[[#This Row],[Total Bed days]]/Trust[[#This Row],[Admissions]]","v":5.18},2185.2545476190476,{"$f":"Trust[[#This Row],[Admissions]]/Trust[[#This Row],[Patients]]","v":1.5625},0.125,0.21428571428571427]
[null,null,null,null,null,null,null,null,null,null,null,null,null,null,"HEREFORDSHIRE AND WORCESTERSHIRE HEALTH AND CARE NHS TRUST",30,30,715,{"$f":"Trust[[#This Row],[Total Bed days]]/Trust[[#This Row],[Admissions]]","v":23.833333333333332},6119.9246333333331,{"$f":"Trust[[#This Row],[Admissions]]/Trust[[#This Row],[Patients]]","v":1},0.23333333333333334,0.23333333333333334]
[null,null,null,null,null,null,null,null,null,null,null,null,null,null,"HOMERTON HEALTHCARE NHS FOUNDATION TRUST",325,210,1630,{"$f":"Trust[[#This Row],[Total Bed days]]/Trust[[#This Row],[Admissions]]","v":5.0153846153846153},2594.8339355828234,{"$f":"Trust[[#This Row],[Admissions]]/Trust[[#This Row],[Patients]]","v":1.5476190476190477},8.5714285714285715E-2,0.18571428571428572]
[null,null,null,null,null,null,null,null,null,null,null,null,null,null,"HULL UNIVERSITY TEACHING HOSPITALS NHS TRUST",1495,1040,7200,{"$f":"Trust[[#This Row],[Total Bed days]]/Trust[[#This Row],[Admissions]]","v":4.816053511705686},2305.2464569313602,{"$f":"Trust[[#This Row],[Admissions]]/Trust[[#This Row],[Patients]]","v":1.4375},0.12844036697247707,0.22324159021406728]
[null,null,null,null,null,null,null,null,null,null,null,null,null,null,"IMPERIAL COLLEGE HEALTHCARE NHS TRUST",605,355,2660,{"$f":"Trust[[#This Row],[Total Bed days]]/Trust[[#This Row],[Admissions]]","v":4.3966942148760326},3222.0325430463586,{"$f":"Trust[[#This Row],[Admissions]]/Trust[[#This Row],[Patients]]","v":1.704225352112676},0.12903225806451613,0.23387096774193547]
[null,null,null,null,null,null,null,null,null,null,null,null,null,null,"ISLE OF WIGHT NHS TRUST",305,240,1840,{"$f":"Trust[[#This Row],[Total Bed days]]/Trust[[#This Row],[Admissions]]","v":6.0327868852459012},2626.1384411764716,{"$f":"Trust[[#This Row],[Admissions]]/Trust[[#This Row],[Patients]]","v":1.2708333333333333},0.19354838709677419,0.30645161290322581]
[null,null,null,null,null,null,null,null,null,null,null,null,null,null,"JAMES PAGET UNIVERSITY HOSPITALS NHS FOUNDATION TRUST",650,480,4610,{"$f":"Trust[[#This Row],[Total Bed days]]/Trust[[#This Row],[Admissions]]","v":7.092307692307692},2699.3033765432101,{"$f":"Trust[[#This Row],[Admissions]]/Trust[[#This Row],[Patients]]","v":1.3541666666666667},0.10884353741496598,0.21088435374149661]
[null,null,null,null,null,null,null,null,null,null,null,null,null,null,"KETTERING GENERAL HOSPITAL NHS FOUNDATION TRUST",1180,720,6375,{"$f":"Trust[[#This Row],[Total Bed days]]/Trust[[#This Row],[Admissions]]","v":5.4025423728813555},2229.5556000000006,{"$f":"Trust[[#This Row],[Admissions]]/Trust[[#This Row],[Patients]]","v":1.6388888888888888},0.1111111111111111,0.21875]
[null,null,null,null,null,null,null,null,null,null,null,null,null,null,"KING'S COLLEGE HOSPITAL NHS FOUNDATION TRUST",605,360,6985,{"$f":"Trust[[#This Row],[Total Bed days]]/Trust[[#This Row],[Admissions]]","v":11.545454545454545},3196.1089383333328,{"$f":"Trust[[#This Row],[Admissions]]/Trust[[#This Row],[Patients]]","v":1.6805555555555556},0.10655737704918032,0.18852459016393441]
[null,null,null,null,null,null,null,null,null,null,null,null,null,null,"KINGSTON HOSPITAL NHS FOUNDATION TRUST",375,260,2515,{"$f":"Trust[[#This Row],[Total Bed days]]/Trust[[#This Row],[Admissions]]","v":6.706666666666667},3091.170426666667,{"$f":"Trust[[#This Row],[Admissions]]/Trust[[#This Row],[Patients]]","v":1.4423076923076923},0.08,0.2]
[null,null,null,null,null,null,null,null,null,null,null,null,null,null,"LANCASHIRE TEACHING HOSPITALS NHS FOUNDATION TRUST",1165,810,6285,{"$f":"Trust[[#This Row],[Total Bed days]]/Trust[[#This Row],[Admissions]]","v":5.3948497854077253},2644.6806917748913,{"$f":"Trust[[#This Row],[Admissions]]/Trust[[#This Row],[Patients]]","v":1.4382716049382716},6.2240663900414939E-2,0.13278008298755187]
[null,null,null,null,null,null,null,null,null,null,null,null,null,null,"LEEDS TEACHING HOSPITALS NHS TRUST",1390,905,8805,{"$f":"Trust[[#This Row],[Total Bed days]]/Trust[[#This Row],[Admissions]]","v":6.3345323741007196},2594.6377775377969,{"$f":"Trust[[#This Row],[Admissions]]/Trust[[#This Row],[Patients]]","v":1.5359116022099448},0.1404109589041096,0.26027397260273971]
[null,null,null,null,null,null,null,null,null,null,null,null,null,null,"LEICESTERSHIRE PARTNERSHIP NHS TRUST",40,35,660,{"$f":"Trust[[#This Row],[Total Bed days]]/Trust[[#This Row],[Admissions]]","v":16.5},0,{"$f":"Trust[[#This Row],[Admissions]]/Trust[[#This Row],[Patients]]","v":1.1428571428571428},0.17499999999999999,0.17499999999999999]
[null,null,null,null,null,null,null,null,null,null,null,null,null,null,"LEWISHAM AND GREENWICH NHS TRUST",1140,715,6980,{"$f":"Trust[[#This Row],[Total Bed days]]/Trust[[#This Row],[Admissions]]","v":6.1228070175438596},3111.1598333333332,{"$f":"Trust[[#This Row],[Admissions]]/Trust[[#This Row],[Patients]]","v":1.5944055944055944},0.13080168776371309,0.24472573839662448]
[null,null,null,null,null,null,null,null,null,null,null,null,null,null,"LINCOLNSHIRE COMMUNITY HEALTH SERVICES NHS TRUST",10,10,115,{"$f":"Trust[[#This Row],[Total Bed days]]/Trust[[#This Row],[Admissions]]","v":11.5},3957.6925000000001,{"$f":"Trust[[#This Row],[Admissions]]/Trust[[#This Row],[Patients]]","v":1},0.46666666666666667,0.46666666666666667]
[null,null,null,null,null,null,null,null,null,null,null,null,null,null,"LIVERPOOL HEART AND CHEST HOSPITAL NHS FOUNDATION TRUST",7,7,25,{"$f":"Trust[[#This Row],[Total Bed days]]/Trust[[#This Row],[Admissions]]","v":3.5714285714285716},5219.3562000000002,{"$f":"Trust[[#This Row],[Admissions]]/Trust[[#This Row],[Patients]]","v":1},0.15555555555555556,0.15555555555555556]
[null,null,null,null,null,null,null,null,null,null,null,null,null,null,"LIVERPOOL UNIVERSITY HOSPITALS NHS FOUNDATION TRUST",2745,1735,14700,{"$f":"Trust[[#This Row],[Total Bed days]]/Trust[[#This Row],[Admissions]]","v":5.3551912568306008},2480.9300167760744,{"$f":"Trust[[#This Row],[Admissions]]/Trust[[#This Row],[Patients]]","v":1.5821325648414986},8.9445438282647588E-2,0.18425760286225404]
[null,null,null,null,null,null,null,null,null,null,null,null,null,null,"LONDON NORTH WEST UNIVERSITY HEALTHCARE NHS TRUST",1225,680,6700,{"$f":"Trust[[#This Row],[Total Bed days]]/Trust[[#This Row],[Admissions]]","v":5.4693877551020407},2638.8151430907596,{"$f":"Trust[[#This Row],[Admissions]]/Trust[[#This Row],[Patients]]","v":1.8014705882352942},0.11969111969111969,0.24324324324324326]
[null,null,null,null,null,null,null,null,null,null,null,null,null,null,"MAIDSTONE AND TUNBRIDGE WELLS NHS TRUST",780,585,4315,{"$f":"Trust[[#This Row],[Total Bed days]]/Trust[[#This Row],[Admissions]]","v":5.5320512820512819},2132.2432670089861,{"$f":"Trust[[#This Row],[Admissions]]/Trust[[#This Row],[Patients]]","v":1.3333333333333333},9.03954802259887E-2,0.15254237288135594]
[null,null,null,null,null,null,null,null,null,null,null,null,null,null,"MANCHESTER UNIVERSITY NHS FOUNDATION TRUST",2330,1410,16895,{"$f":"Trust[[#This Row],[Total Bed days]]/Trust[[#This Row],[Admissions]]","v":7.2510729613733904},3033.5033456896558,{"$f":"Trust[[#This Row],[Admissions]]/Trust[[#This Row],[Patients]]","v":1.6524822695035462},9.7247706422018354E-2,0.1871559633027523]
[null,null,null,null,null,null,null,null,null,null,null,null,null,null,"MEDWAY NHS FOUNDATION TRUST",820,620,6810,{"$f":"Trust[[#This Row],[Total Bed days]]/Trust[[#This Row],[Admissions]]","v":8.3048780487804876},3276.7339987760092,{"$f":"Trust[[#This Row],[Admissions]]/Trust[[#This Row],[Patients]]","v":1.3225806451612903},7.3033707865168537E-2,0.15168539325842698]
[null,null,null,null,null,null,null,null,null,null,null,null,null,null,"MERSEY AND WEST LANCASHIRE TEACHING HOSPITALS NHS TRUST",1555,1065,7810,{"$f":"Trust[[#This Row],[Total Bed days]]/Trust[[#This Row],[Admissions]]","v":5.022508038585209},2312.2935444015443,{"$f":"Trust[[#This Row],[Admissions]]/Trust[[#This Row],[Patients]]","v":1.460093896713615},8.3591331269349839E-2,0.17956656346749225]
[null,null,null,null,null,null,null,null,null,null,null,null,null,null,"MID AND SOUTH ESSEX NHS FOUNDATION TRUST",2410,1615,14945,{"$f":"Trust[[#This Row],[Total Bed days]]/Trust[[#This Row],[Admissions]]","v":6.2012448132780085},2690.198425726142,{"$f":"Trust[[#This Row],[Admissions]]/Trust[[#This Row],[Patients]]","v":1.4922600619195046},9.33572710951526E-2,0.18491921005385997]
[null,null,null,null,null,null,null,null,null,null,null,null,null,null,"MID CHESHIRE HOSPITALS NHS FOUNDATION TRUST",615,455,2515,{"$f":"Trust[[#This Row],[Total Bed days]]/Trust[[#This Row],[Admissions]]","v":4.0894308943089435},2093.1082336601303,{"$f":"Trust[[#This Row],[Admissions]]/Trust[[#This Row],[Patients]]","v":1.3516483516483517},0.13953488372093023,0.23255813953488372]
[null,null,null,null,null,null,null,null,null,null,null,null,null,null,"MID YORKSHIRE TEACHING NHS TRUST",1775,965,10540,{"$f":"Trust[[#This Row],[Total Bed days]]/Trust[[#This Row],[Admissions]]","v":5.9380281690140846},2678.9980208803599,{"$f":"Trust[[#This Row],[Admissions]]/Trust[[#This Row],[Patients]]","v":1.839378238341969},0.16494845360824742,0.30412371134020616]
[null,null,null,null,null,null,null,null,null,null,null,null,null,null,"MIDLANDS PARTNERSHIP NHS FOUNDATION TRUST",195,160,4385,{"$f":"Trust[[#This Row],[Total Bed days]]/Trust[[#This Row],[Admissions]]","v":22.487179487179485},6836.1901467391326,{"$f":"Trust[[#This Row],[Admissions]]/Trust[[#This Row],[Patients]]","v":1.21875},0.21428571428571427,0.33673469387755101]
[null,null,null,null,null,null,null,null,null,null,null,null,null,null,"MILTON KEYNES UNIVERSITY HOSPITAL NHS FOUNDATION TRUST",715,440,5490,{"$f":"Trust[[#This Row],[Total Bed days]]/Trust[[#This Row],[Admissions]]","v":7.6783216783216783},3103.8326764295666,{"$f":"Trust[[#This Row],[Admissions]]/Trust[[#This Row],[Patients]]","v":1.625},8.9041095890410954E-2,0.18493150684931506]
[null,null,null,null,null,null,null,null,null,null,null,null,null,null,"NORFOLK AND NORWICH UNIVERSITY HOSPITALS NHS FOUNDATION TRUST",930,615,4875,{"$f":"Trust[[#This Row],[Total Bed days]]/Trust[[#This Row],[Admissions]]","v":5.241935483870968},2208.8122769396555,{"$f":"Trust[[#This Row],[Admissions]]/Trust[[#This Row],[Patients]]","v":1.5121951219512195},0.13471502590673576,0.24352331606217617]
[null,null,null,null,null,null,null,null,null,null,null,null,null,null,"NORFOLK COMMUNITY HEALTH AND CARE NHS TRUST",25,25,665,{"$f":"Trust[[#This Row],[Total Bed days]]/Trust[[#This Row],[Admissions]]","v":26.6},5114.6735200000003,{"$f":"Trust[[#This Row],[Admissions]]/Trust[[#This Row],[Patients]]","v":1},"",""]
[null,null,null,null,null,null,null,null,null,null,null,null,null,null,"NORTH BRISTOL NHS TRUST",1245,850,5445,{"$f":"Trust[[#This Row],[Total Bed days]]/Trust[[#This Row],[Admissions]]","v":4.3734939759036147},1913.0993634969327,{"$f":"Trust[[#This Row],[Admissions]]/Trust[[#This Row],[Patients]]","v":1.4647058823529411},6.2256809338521402E-2,0.14396887159533073]
[null,null,null,null,null,null,null,null,null,null,null,null,null,null,"NORTH CUMBRIA INTEGRATED CARE NHS FOUNDATION TRUST",1105,655,7720,{"$f":"Trust[[#This Row],[Total Bed days]]/Trust[[#This Row],[Admissions]]","v":6.9864253393665159},2672.121926563917,{"$f":"Trust[[#This Row],[Admissions]]/Trust[[#This Row],[Patients]]","v":1.6870229007633588},0.13004484304932734,0.23318385650224216]
[null,null,null,null,null,null,null,null,null,null,null,null,null,null,"NORTH MIDDLESEX UNIVERSITY HOSPITAL NHS TRUST",540,370,4925,{"$f":"Trust[[#This Row],[Total Bed days]]/Trust[[#This Row],[Admissions]]","v":9.1203703703703702},3771.9640907407411,{"$f":"Trust[[#This Row],[Admissions]]/Trust[[#This Row],[Patients]]","v":1.4594594594594594},8.1818181818181818E-2,0.17272727272727273]
[null,null,null,null,null,null,null,null,null,null,null,null,null,null,"NORTH TEES AND HARTLEPOOL NHS FOUNDATION TRUST",1490,935,5745,{"$f":"Trust[[#This Row],[Total Bed days]]/Trust[[#This Row],[Admissions]]","v":3.8557046979865772},2310.2331230665782,{"$f":"Trust[[#This Row],[Admissions]]/Trust[[#This Row],[Patients]]","v":1.5935828877005347},0.1891025641025641,0.32692307692307693]
[null,null,null,null,null,null,null,null,null,null,null,null,null,null,"NORTH WEST ANGLIA NHS FOUNDATION TRUST",1200,765,7830,{"$f":"Trust[[#This Row],[Total Bed days]]/Trust[[#This Row],[Admissions]]","v":6.5250000000000004},2475.3366324143694,{"$f":"Trust[[#This Row],[Admissions]]/Trust[[#This Row],[Patients]]","v":1.5686274509803921},7.575757575757576E-2,0.1553030303030303]
[null,null,null,null,null,null,null,null,null,null,null,null,null,null,"NORTHAMPTON GENERAL HOSPITAL NHS TRUST",1100,695,6825,{"$f":"Trust[[#This Row],[Total Bed days]]/Trust[[#This Row],[Admissions]]","v":6.2045454545454541},2358.1008746594007,{"$f":"Trust[[#This Row],[Admissions]]/Trust[[#This Row],[Patients]]","v":1.5827338129496402},0.1799163179916318,0.31799163179916318]
[null,null,null,null,null,null,null,null,null,null,null,null,null,null,"NORTHERN CARE ALLIANCE NHS FOUNDATION TRUST",2365,1700,8780,{"$f":"Trust[[#This Row],[Total Bed days]]/Trust[[#This Row],[Admissions]]","v":3.7124735729386891},2069.6343357293867,{"$f":"Trust[[#This Row],[Admissions]]/Trust[[#This Row],[Patients]]","v":1.3911764705882352},0.12603305785123967,0.22933884297520662]
[null,null,null,null,null,null,null,null,null,null,null,null,null,null,"NORTHERN LINCOLNSHIRE AND GOOLE NHS FOUNDATION TRUST",1365,995,8110,{"$f":"Trust[[#This Row],[Total Bed days]]/Trust[[#This Row],[Admissions]]","v":5.9413919413919416},2322.7380695970696,{"$f":"Trust[[#This Row],[Admissions]]/Trust[[#This Row],[Patients]]","v":1.3718592964824121},9.7826086956521743E-2,0.19202898550724637]
[null,null,null,null,null,null,null,null,null,null,null,null,null,null,"NORTHUMBRIA HEALTHCARE NHS FOUNDATION TRUST",1275,970,5110,{"$f":"Trust[[#This Row],[Total Bed days]]/Trust[[#This Row],[Admissions]]","v":4.0078431372549019},2579.0219756394636,{"$f":"Trust[[#This Row],[Admissions]]/Trust[[#This Row],[Patients]]","v":1.3144329896907216},0.10839160839160839,0.19580419580419581]
[null,null,null,null,null,null,null,null,null,null,null,null,null,null,"NOTTINGHAM UNIVERSITY HOSPITALS NHS TRUST",1985,1000,10690,{"$f":"Trust[[#This Row],[Total Bed days]]/Trust[[#This Row],[Admissions]]","v":5.3853904282115872},2229.7477415446751,{"$f":"Trust[[#This Row],[Admissions]]/Trust[[#This Row],[Patients]]","v":1.9850000000000001},0.18872017353579176,0.31670281995661603]
[null,null,null,null,null,null,null,null,null,null,null,null,null,null,"OXFORD UNIVERSITY HOSPITALS NHS FOUNDATION TRUST",1360,925,5605,{"$f":"Trust[[#This Row],[Total Bed days]]/Trust[[#This Row],[Admissions]]","v":4.1213235294117645},2150.8165430463573,{"$f":"Trust[[#This Row],[Admissions]]/Trust[[#This Row],[Patients]]","v":1.4702702702702704},0.12811387900355872,0.20996441281138789]
[null,null,null,null,null,null,null,null,null,null,null,null,null,null,"PORTSMOUTH HOSPITALS UNIVERSITY NATIONAL HEALTH SERVICE TRUST",1380,850,8230,{"$f":"Trust[[#This Row],[Total Bed days]]/Trust[[#This Row],[Admissions]]","v":5.9637681159420293},2527.1839186637612,{"$f":"Trust[[#This Row],[Admissions]]/Trust[[#This Row],[Patients]]","v":1.6235294117647059},0.15737704918032788,0.28196721311475409]
[null,null,null,null,null,null,null,null,null,null,null,null,null,null,"ROYAL BERKSHIRE NHS FOUNDATION TRUST",705,410,3330,{"$f":"Trust[[#This Row],[Total Bed days]]/Trust[[#This Row],[Admissions]]","v":4.7234042553191493},2407.2077315340907,{"$f":"Trust[[#This Row],[Admissions]]/Trust[[#This Row],[Patients]]","v":1.7195121951219512},8.3916083916083919E-2,0.15384615384615385]
[null,null,null,null,null,null,null,null,null,null,null,null,null,null,"ROYAL CORNWALL HOSPITALS NHS TRUST",885,545,3520,{"$f":"Trust[[#This Row],[Total Bed days]]/Trust[[#This Row],[Admissions]]","v":3.977401129943503},2005.7644423076922,{"$f":"Trust[[#This Row],[Admissions]]/Trust[[#This Row],[Patients]]","v":1.6238532110091743},7.6923076923076927E-2,0.14285714285714285]
[null,null,null,null,null,null,null,null,null,null,null,null,null,null,"ROYAL DEVON UNIVERSITY HEALTHCARE NHS FOUNDATION TRUST",1155,725,6260,{"$f":"Trust[[#This Row],[Total Bed days]]/Trust[[#This Row],[Admissions]]","v":5.4199134199134198},2341.2551805555559,{"$f":"Trust[[#This Row],[Admissions]]/Trust[[#This Row],[Patients]]","v":1.5931034482758621},8.7452471482889732E-2,0.19011406844106463]
[null,null,null,null,null,null,null,null,null,null,null,null,null,null,"ROYAL FREE LONDON NHS FOUNDATION TRUST",715,475,3905,{"$f":"Trust[[#This Row],[Total Bed days]]/Trust[[#This Row],[Admissions]]","v":5.4615384615384617},3651.2825401574805,{"$f":"Trust[[#This Row],[Admissions]]/Trust[[#This Row],[Patients]]","v":1.5052631578947369},9.7402597402597407E-2,0.21428571428571427]
[null,null,null,null,null,null,null,null,null,null,null,null,null,null,"ROYAL PAPWORTH HOSPITAL NHS FOUNDATION TRUST",95,95,1140,{"$f":"Trust[[#This Row],[Total Bed days]]/Trust[[#This Row],[Admissions]]","v":12},5043.2860487804874,{"$f":"Trust[[#This Row],[Admissions]]/Trust[[#This Row],[Patients]]","v":1},1.3861386138613862E-2,1.3861386138613862E-2]
[null,null,null,null,null,null,null,null,null,null,null,null,null,null,"ROYAL SURREY COUNTY HOSPITAL NHS FOUNDATION TRUST",345,260,2175,{"$f":"Trust[[#This Row],[Total Bed days]]/Trust[[#This Row],[Admissions]]","v":6.3043478260869561},2948.8320000000003,{"$f":"Trust[[#This Row],[Admissions]]/Trust[[#This Row],[Patients]]","v":1.3269230769230769},6.9444444444444448E-2,0.125]
[null,null,null,null,null,null,null,null,null,null,null,null,null,null,"ROYAL UNITED HOSPITALS BATH NHS FOUNDATION TRUST",600,415,2515,{"$f":"Trust[[#This Row],[Total Bed days]]/Trust[[#This Row],[Admissions]]","v":4.1916666666666664},2140.8004732441473,{"$f":"Trust[[#This Row],[Admissions]]/Trust[[#This Row],[Patients]]","v":1.4457831325301205},8.5271317829457363E-2,0.18604651162790697]
[null,null,null,null,null,null,null,null,null,null,null,null,null,null,"SALISBURY NHS FOUNDATION TRUST",380,300,3035,{"$f":"Trust[[#This Row],[Total Bed days]]/Trust[[#This Row],[Admissions]]","v":7.9868421052631575},2515.1261825396828,{"$f":"Trust[[#This Row],[Admissions]]/Trust[[#This Row],[Patients]]","v":1.2666666666666666},5.6179775280898875E-2,0.10112359550561797]
[null,null,null,null,null,null,null,null,null,null,null,null,null,null,"SANDWELL AND WEST BIRMINGHAM HOSPITALS NHS TRUST",1015,665,4490,{"$f":"Trust[[#This Row],[Total Bed days]]/Trust[[#This Row],[Admissions]]","v":4.4236453201970445},2410.3171520236915,{"$f":"Trust[[#This Row],[Admissions]]/Trust[[#This Row],[Patients]]","v":1.5263157894736843},0.12745098039215685,0.20588235294117646]
[null,null,null,null,null,null,null,null,null,null,null,null,null,null,"SHEFFIELD CHILDREN'S NHS FOUNDATION TRUST",7,7,60,{"$f":"Trust[[#This Row],[Total Bed days]]/Trust[[#This Row],[Admissions]]","v":8.5714285714285712},4759.8642857142859,{"$f":"Trust[[#This Row],[Admissions]]/Trust[[#This Row],[Patients]]","v":1},0,0.14000000000000001]
[null,null,null,null,null,null,null,null,null,null,null,null,null,null,"SHEFFIELD TEACHING HOSPITALS NHS FOUNDATION TRUST",1445,990,9445,{"$f":"Trust[[#This Row],[Total Bed days]]/Trust[[#This Row],[Admissions]]","v":6.5363321799307954},2528.579847009737,{"$f":"Trust[[#This Row],[Admissions]]/Trust[[#This Row],[Patients]]","v":1.4595959595959596},0.1609907120743034,0.28792569659442724]
[null,null,null,null,null,null,null,null,null,null,null,null,null,null,"SHERWOOD FOREST HOSPITALS NHS FOUNDATION TRUST",1040,775,5035,{"$f":"Trust[[#This Row],[Total Bed days]]/Trust[[#This Row],[Admissions]]","v":4.8413461538461542},2299.8351795366798,{"$f":"Trust[[#This Row],[Admissions]]/Trust[[#This Row],[Patients]]","v":1.3419354838709678},8.5308056872037921E-2,0.17061611374407584]
[null,null,null,null,null,null,null,null,null,null,null,null,null,null,"SHROPSHIRE COMMUNITY HEALTH NHS TRUST",7,7,7,{"$f":"Trust[[#This Row],[Total Bed days]]/Trust[[#This Row],[Admissions]]","v":1},3154.9659999999999,{"$f":"Trust[[#This Row],[Admissions]]/Trust[[#This Row],[Patients]]","v":1},"",""]
[null,null,null,null,null,null,null,null,null,null,null,null,null,null,"SOLENT NHS TRUST",10,10,270,{"$f":"Trust[[#This Row],[Total Bed days]]/Trust[[#This Row],[Admissions]]","v":27},6281.6977000000006,{"$f":"Trust[[#This Row],[Admissions]]/Trust[[#This Row],[Patients]]","v":1},0,0.7]
[null,null,null,null,null,null,null,null,null,null,null,null,null,null,"SOMERSET NHS FOUNDATION TRUST",1115,765,8435,{"$f":"Trust[[#This Row],[Total Bed days]]/Trust[[#This Row],[Admissions]]","v":7.565022421524664},2624.9450566037744,{"$f":"Trust[[#This Row],[Admissions]]/Trust[[#This Row],[Patients]]","v":1.457516339869281},0.10317460317460317,0.20634920634920634]
[null,null,null,null,null,null,null,null,null,null,null,null,null,null,"SOUTH TEES HOSPITALS NHS FOUNDATION TRUST",1255,885,5525,{"$f":"Trust[[#This Row],[Total Bed days]]/Trust[[#This Row],[Admissions]]","v":4.4023904382470116},2183.8611697211159,{"$f":"Trust[[#This Row],[Admissions]]/Trust[[#This Row],[Patients]]","v":1.4180790960451977},0.11347517730496454,0.22340425531914893]
[null,null,null,null,null,null,null,null,null,null,null,null,null,null,"SOUTH TYNESIDE AND SUNDERLAND NHS FOUNDATION TRUST",1995,1170,13430,{"$f":"Trust[[#This Row],[Total Bed days]]/Trust[[#This Row],[Admissions]]","v":6.7318295739348368},2545.7481254390359,{"$f":"Trust[[#This Row],[Admissions]]/Trust[[#This Row],[Patients]]","v":1.7051282051282051},7.6754385964912283E-2,0.15131578947368421]
[null,null,null,null,null,null,null,null,null,null,null,null,null,null,"SOUTH WARWICKSHIRE UNIVERSITY NHS FOUNDATION TRUST",510,335,2490,{"$f":"Trust[[#This Row],[Total Bed days]]/Trust[[#This Row],[Admissions]]","v":4.882352941176471},2321.3795404339248,{"$f":"Trust[[#This Row],[Admissions]]/Trust[[#This Row],[Patients]]","v":1.5223880597014925},7.3394495412844041E-2,0.13761467889908258]
[null,null,null,null,null,null,null,null,null,null,null,null,null,null,"SOUTHERN HEALTH NHS FOUNDATION TRUST",75,65,"",null,2624.2083492063498,{"$f":"Trust[[#This Row],[Admissions]]/Trust[[#This Row],[Patients]]","v":1.1538461538461537},0.13333333333333333,0.2]
[null,null,null,null,null,null,null,null,null,null,null,null,null,null,"SOUTHPORT AND ORMSKIRK HOSPITAL NHS TRUST",110,90,600,{"$f":"Trust[[#This Row],[Total Bed days]]/Trust[[#This Row],[Admissions]]","v":5.4545454545454541},2300.0828807339458,{"$f":"Trust[[#This Row],[Admissions]]/Trust[[#This Row],[Patients]]","v":1.2222222222222223},6.363636363636363E-2,0.13636363636363635]
[null,null,null,null,null,null,null,null,null,null,null,null,null,null,"ST GEORGE'S UNIVERSITY HOSPITALS NHS FOUNDATION TRUST",355,235,2430,{"$f":"Trust[[#This Row],[Total Bed days]]/Trust[[#This Row],[Admissions]]","v":6.845070422535211},3045.4544717514136,{"$f":"Trust[[#This Row],[Admissions]]/Trust[[#This Row],[Patients]]","v":1.5106382978723405},0.14666666666666667,0.21333333333333335]
[null,null,null,null,null,null,null,null,null,null,null,null,null,null,"STOCKPORT NHS FOUNDATION TRUST",785,545,4395,{"$f":"Trust[[#This Row],[Total Bed days]]/Trust[[#This Row],[Admissions]]","v":5.5987261146496818},2837.11221910828,{"$f":"Trust[[#This Row],[Admissions]]/Trust[[#This Row],[Patients]]","v":1.4403669724770642},0.1464968152866242,0.29936305732484075]
[null,null,null,null,null,null,null,null,null,null,null,null,null,null,"SURREY AND SUSSEX HEALTHCARE NHS TRUST",645,430,3555,{"$f":"Trust[[#This Row],[Total Bed days]]/Trust[[#This Row],[Admissions]]","v":5.5116279069767442},2895.5258186046512,{"$f":"Trust[[#This Row],[Admissions]]/Trust[[#This Row],[Patients]]","v":1.5},9.2307692307692313E-2,0.14615384615384616]
[null,null,null,null,null,null,null,null,null,null,null,null,null,null,"TAMESIDE AND GLOSSOP INTEGRATED CARE NHS FOUNDATION TRUST",1475,765,5830,{"$f":"Trust[[#This Row],[Total Bed days]]/Trust[[#This Row],[Admissions]]","v":3.9525423728813558},2353.7126682464454,{"$f":"Trust[[#This Row],[Admissions]]/Trust[[#This Row],[Patients]]","v":1.9281045751633987},0.1461794019933555,0.23588039867109634]
[null,null,null,null,null,null,null,null,null,null,null,null,null,null,"THE CHRISTIE NHS FOUNDATION TRUST",50,45,175,{"$f":"Trust[[#This Row],[Total Bed days]]/Trust[[#This Row],[Admissions]]","v":3.5},1691.4129791666662,{"$f":"Trust[[#This Row],[Admissions]]/Trust[[#This Row],[Patients]]","v":1.1111111111111112},0.18181818181818182,0.36363636363636365]
[null,null,null,null,null,null,null,null,null,null,null,null,null,null,"THE CLATTERBRIDGE CANCER CENTRE NHS FOUNDATION TRUST",10,10,45,{"$f":"Trust[[#This Row],[Total Bed days]]/Trust[[#This Row],[Admissions]]","v":4.5},2942.4390909090907,{"$f":"Trust[[#This Row],[Admissions]]/Trust[[#This Row],[Patients]]","v":1},0,0.7]
[null,null,null,null,null,null,null,null,null,null,null,null,null,null,"THE DUDLEY GROUP NHS FOUNDATION TRUST",1335,915,5570,{"$f":"Trust[[#This Row],[Total Bed days]]/Trust[[#This Row],[Admissions]]","v":4.1722846441947565},1746.633091614907,{"$f":"Trust[[#This Row],[Admissions]]/Trust[[#This Row],[Patients]]","v":1.459016393442623},0.12576687116564417,0.19938650306748465]
[null,null,null,null,null,null,null,null,null,null,null,null,null,null,"THE HILLINGDON HOSPITALS NHS FOUNDATION TRUST",460,315,4025,{"$f":"Trust[[#This Row],[Total Bed days]]/Trust[[#This Row],[Admissions]]","v":8.75},2904.7291982570796,{"$f":"Trust[[#This Row],[Admissions]]/Trust[[#This Row],[Patients]]","v":1.4603174603174602},0.1,0.18181818181818182]
[null,null,null,null,null,null,null,null,null,null,null,null,null,null,"THE NEWCASTLE UPON TYNE HOSPITALS NHS FOUNDATION TRUST",1305,790,7135,{"$f":"Trust[[#This Row],[Total Bed days]]/Trust[[#This Row],[Admissions]]","v":5.4674329501915713},2361.0099369676323,{"$f":"Trust[[#This Row],[Admissions]]/Trust[[#This Row],[Patients]]","v":1.6518987341772151},0.12411347517730496,0.21985815602836881]
[null,null,null,null,null,null,null,null,null,null,null,null,null,null,"THE PRINCESS ALEXANDRA HOSPITAL NHS TRUST",530,425,3345,{"$f":"Trust[[#This Row],[Total Bed days]]/Trust[[#This Row],[Admissions]]","v":6.3113207547169807},3001.3420751879707,{"$f":"Trust[[#This Row],[Admissions]]/Trust[[#This Row],[Patients]]","v":1.2470588235294118},6.6037735849056603E-2,0.14150943396226415]
[null,null,null,null,null,null,null,null,null,null,null,null,null,null,"THE QUEEN ELIZABETH HOSPITAL, KING'S LYNN, NHS FOUNDATION TRUST",905,690,5930,{"$f":"Trust[[#This Row],[Total Bed days]]/Trust[[#This Row],[Admissions]]","v":6.5524861878453038},2481.1313942414172,{"$f":"Trust[[#This Row],[Admissions]]/Trust[[#This Row],[Patients]]","v":1.3115942028985508},0.10382513661202186,0.20218579234972678]
[null,null,null,null,null,null,null,null,null,null,null,null,null,null,"THE ROBERT JONES AND AGNES HUNT ORTHOPAEDIC HOSPITAL NHS FOUNDATION TRUST",7,7,45,{"$f":"Trust[[#This Row],[Total Bed days]]/Trust[[#This Row],[Admissions]]","v":6.4285714285714288},10374.993,{"$f":"Trust[[#This Row],[Admissions]]/Trust[[#This Row],[Patients]]","v":1},"",""]
[null,null,null,null,null,null,null,null,null,null,null,null,null,null,"THE ROTHERHAM NHS FOUNDATION TRUST",1040,715,4270,{"$f":"Trust[[#This Row],[Total Bed days]]/Trust[[#This Row],[Admissions]]","v":4.1057692307692308},2408.6950055803572,{"$f":"Trust[[#This Row],[Admissions]]/Trust[[#This Row],[Patients]]","v":1.4545454545454546},0.11538461538461539,0.19711538461538461]
[null,null,null,null,null,null,null,null,null,null,null,null,null,null,"THE ROYAL MARSDEN NHS FOUNDATION TRUST",7,7,20,{"$f":"Trust[[#This Row],[Total Bed days]]/Trust[[#This Row],[Admissions]]","v":2.8571428571428572},718.05,{"$f":"Trust[[#This Row],[Admissions]]/Trust[[#This Row],[Patients]]","v":1},0.35,0.35]
[null,null,null,null,null,null,null,null,null,null,null,null,null,null,"THE ROYAL WOLVERHAMPTON NHS TRUST",820,600,3050,{"$f":"Trust[[#This Row],[Total Bed days]]/Trust[[#This Row],[Admissions]]","v":3.7195121951219514},2656.1715435816168,{"$f":"Trust[[#This Row],[Admissions]]/Trust[[#This Row],[Patients]]","v":1.3666666666666667},6.7073170731707321E-2,0.15853658536585366]
[null,null,null,null,null,null,null,null,null,null,null,null,null,null,"THE SHREWSBURY AND TELFORD HOSPITAL NHS TRUST",1110,775,5925,{"$f":"Trust[[#This Row],[Total Bed days]]/Trust[[#This Row],[Admissions]]","v":5.3378378378378377},2256.2270314748193,{"$f":"Trust[[#This Row],[Admissions]]/Trust[[#This Row],[Patients]]","v":1.4322580645161291},9.7165991902834009E-2,0.17408906882591094]
[null,null,null,null,null,null,null,null,null,null,null,null,null,null,"THE WALTON CENTRE NHS FOUNDATION TRUST",7,7,7,{"$f":"Trust[[#This Row],[Total Bed days]]/Trust[[#This Row],[Admissions]]","v":1},0,{"$f":"Trust[[#This Row],[Admissions]]/Trust[[#This Row],[Patients]]","v":1},"",1]
[null,null,null,null,null,null,null,null,null,null,null,null,null,null,"TORBAY AND SOUTH DEVON NHS FOUNDATION TRUST",770,485,3130,{"$f":"Trust[[#This Row],[Total Bed days]]/Trust[[#This Row],[Admissions]]","v":4.0649350649350646},1827.3407022106633,{"$f":"Trust[[#This Row],[Admissions]]/Trust[[#This Row],[Patients]]","v":1.5876288659793814},0.14374999999999999,0.23749999999999999]
[null,null,null,null,null,null,null,null,null,null,null,null,null,null,"UNITED LINCOLNSHIRE HOSPITALS NHS TRUST",1570,1125,9000,{"$f":"Trust[[#This Row],[Total Bed days]]/Trust[[#This Row],[Admissions]]","v":5.7324840764331206},2756.7140408163255,{"$f":"Trust[[#This Row],[Admissions]]/Trust[[#This Row],[Patients]]","v":1.3955555555555557},9.4339622641509441E-2,0.16981132075471697]
[null,null,null,null,null,null,null,null,null,null,null,null,null,null,"UNIVERSITY COLLEGE LONDON HOSPITALS NHS FOUNDATION TRUST",240,190,1370,{"$f":"Trust[[#This Row],[Total Bed days]]/Trust[[#This Row],[Admissions]]","v":5.708333333333333},3210.2475062761509,{"$f":"Trust[[#This Row],[Admissions]]/Trust[[#This Row],[Patients]]","v":1.263157894736842},9.2592592592592587E-2,0.18518518518518517]
[null,null,null,null,null,null,null,null,null,null,null,null,null,null,"UNIVERSITY HOSPITAL SOUTHAMPTON NHS FOUNDATION TRUST",1405,780,7115,{"$f":"Trust[[#This Row],[Total Bed days]]/Trust[[#This Row],[Admissions]]","v":5.0640569395017794},2624.6863589743593,{"$f":"Trust[[#This Row],[Admissions]]/Trust[[#This Row],[Patients]]","v":1.8012820512820513},0.1396103896103896,0.25324675324675322]
[null,null,null,null,null,null,null,null,null,null,null,null,null,null,"UNIVERSITY HOSPITALS BIRMINGHAM NHS FOUNDATION TRUST",3455,2510,18435,{"$f":"Trust[[#This Row],[Total Bed days]]/Trust[[#This Row],[Admissions]]","v":5.3357452966714902},2892.5412697689549,{"$f":"Trust[[#This Row],[Admissions]]/Trust[[#This Row],[Patients]]","v":1.3764940239043826},0.10263522884882108,0.21081830790568654]
[null,null,null,null,null,null,null,null,null,null,null,null,null,null,"UNIVERSITY HOSPITALS BRISTOL AND WESTON NHS FOUNDATION TRUST",1410,1000,9015,{"$f":"Trust[[#This Row],[Total Bed days]]/Trust[[#This Row],[Admissions]]","v":6.3936170212765955},2498.0138141843968,{"$f":"Trust[[#This Row],[Admissions]]/Trust[[#This Row],[Patients]]","v":1.41},9.1772151898734181E-2,0.17405063291139242]
[null,null,null,null,null,null,null,null,null,null,null,null,null,null,"UNIVERSITY HOSPITALS COVENTRY AND WARWICKSHIRE NHS TRUST",1005,715,5725,{"$f":"Trust[[#This Row],[Total Bed days]]/Trust[[#This Row],[Admissions]]","v":5.6965174129353233},2341.3870598802391,{"$f":"Trust[[#This Row],[Admissions]]/Trust[[#This Row],[Patients]]","v":1.4055944055944056},8.45771144278607E-2,0.17910447761194029]
[null,null,null,null,null,null,null,null,null,null,null,null,null,null,"UNIVERSITY HOSPITALS DORSET NHS FOUNDATION TRUST",1720,1050,8770,{"$f":"Trust[[#This Row],[Total Bed days]]/Trust[[#This Row],[Admissions]]","v":5.0988372093023253},2286.0530284718188,{"$f":"Trust[[#This Row],[Admissions]]/Trust[[#This Row],[Patients]]","v":1.638095238095238},0.10601719197707736,0.21203438395415472]
[null,null,null,null,null,null,null,null,null,null,null,null,null,null,"UNIVERSITY HOSPITALS OF DERBY AND BURTON NHS FOUNDATION TRUST",1785,1220,10595,{"$f":"Trust[[#This Row],[Total Bed days]]/Trust[[#This Row],[Admissions]]","v":5.935574229691877},2698.9908854875293,{"$f":"Trust[[#This Row],[Admissions]]/Trust[[#This Row],[Patients]]","v":1.4631147540983607},8.3783783783783788E-2,0.17567567567567569]
[null,null,null,null,null,null,null,null,null,null,null,null,null,null,"UNIVERSITY HOSPITALS OF LEICESTER NHS TRUST",2595,1660,15265,{"$f":"Trust[[#This Row],[Total Bed days]]/Trust[[#This Row],[Admissions]]","v":5.8824662813102115},2395.1129250675945,{"$f":"Trust[[#This Row],[Admissions]]/Trust[[#This Row],[Patients]]","v":1.5632530120481927},0.12727272727272726,0.23454545454545456]
[null,null,null,null,null,null,null,null,null,null,null,null,null,null,"UNIVERSITY HOSPITALS OF MORECAMBE BAY NHS FOUNDATION TRUST",920,620,4535,{"$f":"Trust[[#This Row],[Total Bed days]]/Trust[[#This Row],[Admissions]]","v":4.9293478260869561},2074.0040958605668,{"$f":"Trust[[#This Row],[Admissions]]/Trust[[#This Row],[Patients]]","v":1.4838709677419355},0.1,0.19473684210526315]
[null,null,null,null,null,null,null,null,null,null,null,null,null,null,"UNIVERSITY HOSPITALS OF NORTH MIDLANDS NHS TRUST",2455,1540,10725,{"$f":"Trust[[#This Row],[Total Bed days]]/Trust[[#This Row],[Admissions]]","v":4.3686354378818741},2355.0518828911254,{"$f":"Trust[[#This Row],[Admissions]]/Trust[[#This Row],[Patients]]","v":1.5941558441558441},0.11132437619961612,0.20921305182341651]
[null,null,null,null,null,null,null,null,null,null,null,null,null,null,"UNIVERSITY HOSPITALS PLYMOUTH NHS TRUST",805,545,4625,{"$f":"Trust[[#This Row],[Total Bed days]]/Trust[[#This Row],[Admissions]]","v":5.7453416149068319},2112.8118429648239,{"$f":"Trust[[#This Row],[Admissions]]/Trust[[#This Row],[Patients]]","v":1.4770642201834863},0.10404624277456648,0.19075144508670519]
[null,null,null,null,null,null,null,null,null,null,null,null,null,null,"UNIVERSITY HOSPITALS SUSSEX NHS FOUNDATION TRUST",1710,1145,8830,{"$f":"Trust[[#This Row],[Total Bed days]]/Trust[[#This Row],[Admissions]]","v":5.1637426900584797},2364.952027202839,{"$f":"Trust[[#This Row],[Admissions]]/Trust[[#This Row],[Patients]]","v":1.4934497816593886},8.8541666666666671E-2,0.15364583333333334]
[null,null,null,null,null,null,null,null,null,null,null,null,null,null,"WALSALL HEALTHCARE NHS TRUST",1045,745,5040,{"$f":"Trust[[#This Row],[Total Bed days]]/Trust[[#This Row],[Admissions]]","v":4.8229665071770338},1854.778510067114,{"$f":"Trust[[#This Row],[Admissions]]/Trust[[#This Row],[Patients]]","v":1.4026845637583893},9.3220338983050849E-2,0.17796610169491525]
[null,null,null,null,null,null,null,null,null,null,null,null,null,null,"WARRINGTON AND HALTON TEACHING HOSPITALS NHS FOUNDATION TRUST",585,400,3495,{"$f":"Trust[[#This Row],[Total Bed days]]/Trust[[#This Row],[Admissions]]","v":5.9743589743589745},2764.8032092624362,{"$f":"Trust[[#This Row],[Admissions]]/Trust[[#This Row],[Patients]]","v":1.4624999999999999},7.03125E-2,0.171875]
[null,null,null,null,null,null,null,null,null,null,null,null,null,null,"WEST HERTFORDSHIRE TEACHING HOSPITALS NHS TRUST",820,535,4495,{"$f":"Trust[[#This Row],[Total Bed days]]/Trust[[#This Row],[Admissions]]","v":5.4817073170731705},2502.4036829865363,{"$f":"Trust[[#This Row],[Admissions]]/Trust[[#This Row],[Patients]]","v":1.5327102803738317},7.5268817204301078E-2,0.16666666666666666]
[null,null,null,null,null,null,null,null,null,null,null,null,null,null,"WEST SUFFOLK NHS FOUNDATION TRUST",700,450,4090,{"$f":"Trust[[#This Row],[Total Bed days]]/Trust[[#This Row],[Admissions]]","v":5.8428571428571425},2711.4473459715641,{"$f":"Trust[[#This Row],[Admissions]]/Trust[[#This Row],[Patients]]","v":1.5555555555555556},0.1,0.18571428571428572]
[null,null,null,null,null,null,null,null,null,null,null,null,null,null,"WHITTINGTON HEALTH NHS TRUST",265,170,1855,{"$f":"Trust[[#This Row],[Total Bed days]]/Trust[[#This Row],[Admissions]]","v":7},3197.695867924529,{"$f":"Trust[[#This Row],[Admissions]]/Trust[[#This Row],[Patients]]","v":1.5588235294117647},7.2727272727272724E-2,0.18181818181818182]
[null,null,null,null,null,null,null,null,null,null,null,null,null,null,"WILTSHIRE HEALTH & CARE",7,7,110,{"$f":"Trust[[#This Row],[Total Bed days]]/Trust[[#This Row],[Admissions]]","v":15.714285714285714},13842.5,{"$f":"Trust[[#This Row],[Admissions]]/Trust[[#This Row],[Patients]]","v":1},0,1]
[null,null,null,null,null,null,null,null,null,null,null,null,null,null,"WIRRAL UNIVERSITY TEACHING HOSPITAL NHS FOUNDATION TRUST",1195,745,6440,{"$f":"Trust[[#This Row],[Total Bed days]]/Trust[[#This Row],[Admissions]]","v":5.3891213389121342},2485.5236635906044,{"$f":"Trust[[#This Row],[Admissions]]/Trust[[#This Row],[Patients]]","v":1.6040268456375839},9.1633466135458169E-2,0.17131474103585656]
[null,null,null,null,null,null,null,null,null,null,null,null,null,null,"WORCESTERSHIRE ACUTE HOSPITALS NHS TRUST",1050,770,5330,{"$f":"Trust[[#This Row],[Total Bed days]]/Trust[[#This Row],[Admissions]]","v":5.0761904761904759},2409.9416038095237,{"$f":"Trust[[#This Row],[Admissions]]/Trust[[#This Row],[Patients]]","v":1.3636363636363635},6.3829787234042548E-2,0.13191489361702127]
[null,null,null,null,null,null,null,null,null,null,null,null,null,null,"WRIGHTINGTON, WIGAN AND LEIGH NHS FOUNDATION TRUST",870,635,2995,{"$f":"Trust[[#This Row],[Total Bed days]]/Trust[[#This Row],[Admissions]]","v":3.4425287356321839},1950.7169643678162,{"$f":"Trust[[#This Row],[Admissions]]/Trust[[#This Row],[Patients]]","v":1.3700787401574803},0.12994350282485875,0.20338983050847459]
[null,null,null,null,null,null,null,null,null,null,null,null,null,null,"WYE VALLEY NHS TRUST",440,320,2565,{"$f":"Trust[[#This Row],[Total Bed days]]/Trust[[#This Row],[Admissions]]","v":5.8295454545454541},2353.534459276018,{"$f":"Trust[[#This Row],[Admissions]]/Trust[[#This Row],[Patients]]","v":1.375},8.7378640776699032E-2,0.1650485436893204]
[null,null,null,null,null,null,null,null,null,null,null,null,null,null,"YORK AND SCARBOROUGH TEACHING HOSPITALS NHS FOUNDATION TRUST",1280,795,7115,{"$f":"Trust[[#This Row],[Total Bed days]]/Trust[[#This Row],[Admissions]]","v":5.55859375},2614.029850362027,{"$f":"Trust[[#This Row],[Admissions]]/Trust[[#This Row],[Patients]]","v":1.6100628930817611},8.6142322097378279E-2,0.19101123595505617]

{"sheet":"Next steps","index":6,"n_rows":0,"n_cols":0,"rows_kept":0,"cut":false,"hidden":false,"merged":[]}

{"sheet":"Create a report","index":7,"n_rows":6,"n_cols":3,"rows_kept":6,"cut":false,"hidden":false,"merged":[]}
[]
[null,"Please fill in the table below and then click the desired report"]
[]
[null,"Your Email Address","judith.hampson@nhs.net"]
[null,"Report created for:","Dr Judith Hampston"]
[null,"Date",{"$f":"TODAY()","v":"2025-08-12"}]

{"sheet":"ICS report","index":8,"n_rows":234,"n_cols":4,"rows_kept":234,"cut":false,"hidden":true,"merged":[]}
[]
[]
[]
[]
[]
[]
[]
[]
[]
[]
[]
[]
[]
[]
[]
[]
[]
[]
[]
[]
[]
[]
[]
[]
[]
[]
[]
[]
[]
[]
[]
[]
[]
[]
[]
[]
[]
[]
[]
[]
[]
[]
[]
[]
[]
[]
[]
[]
[]
[]
[]
[]
[]
[]
[]
[]
[]
[]
[]
[]
[]
[]
[]
[]
[]
[]
[]
[]
[]
[]
[]
[]
[]
[]
[]
[]
[]
[]
[]
[]
[]
[]
[]
[]
[]
[]
[]
[]
[]
[]
[]
[]
[]
[]
[]
[]
[]
[]
[]
[]
[]
[]
[]
[]
[]
[]
[]
[]
[]
[]
[]
[]
[]
[]
[]
[]
[]
[]
[]
[]
[]
[]
[]
[]
[]
[]
[]
[]
[]
[]
[]
[]
[]
[]
[]
[]
[]
[]
[]
[]
[]
[]
[]
[]
[]
[]
[]
[]
[]
[]
[]
[]
[]
[]
[]
[]
[]
[]
[]
[]
[]
[]
[]
[]
[]
[]
[]
[]
[]
[]
[]
[]
[]
[]
[]
[]
[]
[]
[]
[]
[]
[]
[]
[]
[]
[]
[]
[]
[]
[]
[]
[]
[]
[]
[]
[]
[]
[]
[]
[]
[]
[]
[]
[]
[]
[]
[]
[]
[]
[]
[]
[]
[]
[]
[]
[]
[]
[]
[]
[]
[]
[]
[]
[]
[]
[]
[]
[]
[]
[]
[]
[]
[]
[null,null,null,"References"]

{"sheet":"Trust report","index":9,"n_rows":235,"n_cols":4,"rows_kept":235,"cut":false,"hidden":true,"merged":[]}
[]
[]
[]
[]
[]
[]
[]
[]
[]
[]
[]
[]
[]
[]
[]
[]
[]
[]
[]
[]
[]
[]
[]
[]
[]
[]
[]
[]
[]
[]
[]
[]
[]
[]
[]
[]
[]
[]
[]
[]
[]
[]
[]
[]
[]
[]
[]
[]
[]
[]
[]
[]
[]
[]
[]
[]
[]
[]
[]
[]
[]
[]
[]
[]
[]
[]
[]
[]
[]
[]
[]
[]
[]
[]
[]
[]
[]
[]
[]
[]
[]
[]
[]
[]
[]
[]
[]
[]
[]
[]
[]
[]
[]
[]
[]
[]
[]
[]
[]
[]
[]
[]
[]
[]
[]
[]
[]
[]
[]
[]
[]
[]
[]
[]
[]
[]
[]
[]
[]
[]
[]
[]
[]
[]
[]
[]
[]
[]
[]
[]
[]
[]
[]
[]
[]
[]
[]
[]
[]
[]
[]
[]
[]
[]
[]
[]
[]
[]
[]
[]
[]
[]
[]
[]
[]
[]
[]
[]
[]
[]
[]
[]
[]
[]
[]
[]
[]
[]
[]
[]
[]
[]
[]
[]
[]
[]
[]
[]
[]
[]
[]
[]
[]
[]
[]
[]
[]
[]
[]
[]
[]
[]
[]
[]
[]
[]
[]
[]
[]
[]
[]
[]
[]
[]
[]
[]
[]
[]
[]
[]
[]
[]
[]
[]
[]
[]
[]
[]
[]
[]
[]
[]
[]
[]
[]
[]
[]
[]
[]
[]
[]
[]
[]
[]
[null,null,null,"References"]

{"sheet":"Report of both","index":10,"n_rows":303,"n_cols":4,"rows_kept":303,"cut":false,"hidden":true,"merged":[]}
[]
[]
[]
[]
[]
[]
[]
[]
[]
[]
[]
[]
[]
[]
[]
[]
[]
[]
[]
[]
[]
[]
[]
[]
[]
[]
[]
[]
[]
[]
[]
[]
[]
[]
[]
[]
[]
[]
[]
[]
[]
[]
[]
[]
[]
[]
[]
[]
[]
[]
[]
[]
[]
[]
[]
[]
[]
[]
[]
[]
[]
[]
[]
[]
[]
[]
[]
[]
[]
[]
[]
[]
[]
[]
[]
[]
[]
[]
[]
[]
[]
[]
[]
[]
[]
[]
[]
[]
[]
[]
[]
[]
[]
[]
[]
[]
[]
[]
[]
[]
[]
[]
[]
[]
[]
[]
[]
[]
[]
[]
[]
[]
[]
[]
[]
[]
[]
[]
[]
[]
[]
[]
[]
[]
[]
[]
[]
[]
[]
[]
[]
[]
[]
[]
[]
[]
[]
[]
[]
[]
[]
[]
[]
[]
[]
[]
[]
[]
[]
[]
[]
[]
[]
[]
[]
[]
[]
[]
[]
[]
[]
[]
[]
[]
[]
[]
[]
[]
[]
[]
[]
[]
[]
[]
[]
[]
[]
[]
[]
[]
[]
[]
[]
[]
[]
[]
[]
[]
[]
[]
[]
[]
[]
[]
[]
[]
[]
[]
[]
[]
[]
[]
[]
[]
[]
[]
[]
[]
[]
[]
[]
[]
[]
[]
[]
[]
[]
[]
[]
[]
[]
[]
[]
[]
[]
[]
[]
[]
[]
[]
[]
[]
[]
[]
[]
[]
[]
[]
[]
[]
[]
[]
[]
[]
[]
[]
[]
[]
[]
[]
[]
[]
[]
[]
[]
[]
[]
[]
[]
[]
[]
[]
[]
[]
[]
[]
[]
[]
[]
[]
[]
[]
[]
[]
[]
[]
[]
[]
[]
[]
[]
[]
[]
[]
[]
[]
[]
[]
[]
[]
[]
[]
[]
[]
[]
[]
[]
[]
[]
[]
[]
[]
[null,null,null,"References"]

{"sheet":"References","index":11,"n_rows":14,"n_cols":4,"rows_kept":14,"cut":false,"hidden":false,"merged":[]}
[]
[]
[]
[null,"References"]
[]
[null,1,"Bhatt SP, et al. Lancet Reg Health Eur. 2025;13(3):234-243"]
[null,2,"Sanofi Data on File. Hospital Episode Statistics for COPD Fiscal Year 2023-2024"]
[null,3,"Dupixent Summary of Product Characteristics. Great Britain. 2025."]
[null,4,"National Institute for Health and Care Excellence. Clinical Knowledge Summaries. Chronic obstructive pulmonary disease: How common is it? Last revised February 2025. ","https://cks.nice.org.uk/topics/chronic-obstructive-pulmonary-disease/background-information/prevalence-incidence/"]
[null,5,"NHS England. Our work: Respiratory disease. ","https://www.england.nhs.uk/ourwork/clinical-policy/respiratory-disease/"]
[null,6,"NHS England - Transformation Directorate. Digital service to manage high-risk chronic obstructive pulmonary disease (COPD) patients. ","https://transform.england.nhs.uk/key-tools-and-info/digital-playbooks/respiratory-digital-playbook/digital-service-to-manage-high-risk-chronic-obstructive-pulmonary-disease-copd-patients/"]
[null,7,"NHS. The NHS Long Term Plan. 2019. ","https://www.longtermplan.nhs.uk/wp-content/uploads/2019/08/nhs-long-term-plan-version-1.2.pdf"]
[null,8,"NHS England. 2025/26 priorities and operational planning guidance","NHS England » 2025/26 priorities and operational planning guidance"]
[null,9,"Sanofi Data on file. Frequency of Resources Utilised for COPD Hospital Admissions"]